BEGIN:VCALENDAR
VERSION:2.0
PRODID:-//ChamberMaster//Event Calendar 2.0//EN
METHOD:PUBLISH
X-PUBLISHED-TTL:P3D
REFRESH-INTERVAL:P3D
CALSCALE:GREGORIAN
BEGIN:VEVENT
DTSTART:20120630T010000Z
DTEND:20120630T040000Z
X-MICROSOFT-CDO-ALLDAYEVENT:FALSE
SUMMARY:Celebration of Business 2012
DESCRIPTION:Celebrate the best and brightest of San Diego County's business community. Highlighting achievements in corporate and individual categories\, we will present the Business Achievement Awards in nine prestigious categories.\n\n	 \n\n	This event is a true celebration of doing business successfully\, doing business responsibly\, and doing business in the spirit of San Diego North.
X-ALT-DESC;FMTTYPE=text/html:<div>\n	Celebrate the best and brightest of San Diego County&#39\;s business community. Highlighting achievements in corporate and individual categories\, we will present the Business Achievement Awards in nine prestigious categories.</div>\n<div>\n	&nbsp\;</div>\n<div>\n	This event is a true celebration of doing business successfully\, doing business responsibly\, and doing business in the spirit of San Diego North.</div>\n
LOCATION:El Bizcocho Restaurant at the Rancho Bernardo Inn 17550 Bernardo Oaks Drive San Diego CA 92128
UID:e.784.2620
SEQUENCE:3
DTSTAMP:20260422T140511Z
URL:https://chamber.sdbusinesschamber.com/events/details/celebration-of-business-2012-06-29-2012-2620
END:VEVENT

END:VCALENDAR
