BEGIN:VCALENDAR
VERSION:2.0
PRODID:-//ChamberMaster//Event Calendar 2.0//EN
METHOD:PUBLISH
X-PUBLISHED-TTL:P3D
REFRESH-INTERVAL:P3D
CALSCALE:GREGORIAN
BEGIN:VEVENT
DTSTART:20100627T013000Z
DTEND:20100627T040000Z
X-MICROSOFT-CDO-ALLDAYEVENT:FALSE
SUMMARY:Celebration of Business 2010
DESCRIPTION:
X-ALT-DESC;FMTTYPE=text/html:
LOCATION:Rancho Bernardo Inn
UID:e.784.935
SEQUENCE:3
DTSTAMP:20260424T001207Z
URL:https://chamber.sdbusinesschamber.com/events/details/celebration-of-business-2010-06-26-2010-935
END:VEVENT

END:VCALENDAR
