BEGIN:VCALENDAR
VERSION:2.0
PRODID:-//ChamberMaster//Event Calendar 2.0//EN
METHOD:PUBLISH
X-PUBLISHED-TTL:P3D
REFRESH-INTERVAL:P3D
CALSCALE:GREGORIAN
BEGIN:VEVENT
DTSTART:20090628T070000Z
DTEND:20090628T070000Z
X-MICROSOFT-CDO-ALLDAYEVENT:FALSE
SUMMARY:Celebration of Business 2009
DESCRIPTION:Sunday\, June 28\, 2009\nMaderas Golf Club\, Del Lago Ballroom\n17750 Old Coach Road\, Poway\n5:30 - 6:30 pm Cocktails and Hors D'oeuvres\n6:30 - 9:00 pm Dinner\, Entertainment and Program\n$65 SDNCC member\, $100 non-members\nEnjoy:Beer tastings by Stone Brewery\nWine Tastings by Bernardo WinerySpecial Celebrity Guests will empower you to make a difference with the San Diego North Education Foundation.Featuring:Anisha Nicole Gwynn\nTony Gwynn\nDennis Green\nJeff Moorad\nand Tom Brunansky\nSpend an evening taking in the amazingly beautiful panorama from the Del Lago Gardens at Maderas Golf Club\, followed by an exciting and entertaining program in the spectacular Del Lago Ballroom.Celebrate the best and brightest of San Diego County’s business community. Highlighting achievements in corporate and individual categories\, we will honor Achievements in Business Leadership Excellence in six prestigious categories.This event is a true celebration of doing business successfully\, doing business responsibly\, and doing business in the spirit of San Diego North. With the ABLE awards\, the crowning of the 2009-2010 Honorary Mayor\, and the unveiling of the new San Diego North Education Foundation. This year\, more than ever\, will be a year of excitement\, dedication to education\, and celebration of business.Be there for the Launch of the San Diego North Education Foundation and the Installation of Foundation Chair\, Alicia Gwynn\nWith musical entertainment provided by Anisha Nicole Gwynn.
X-ALT-DESC;FMTTYPE=text/html:<DIV><H3>&nbsp\;</H3><H3>Sunday\, June 28\, 2009<BR>Maderas Golf Club\, Del Lago Ballroom<BR>17750 Old Coach Road\, Poway<BR>5:30 - 6:30 pm Cocktails and Hors D'oeuvres<BR>6:30 - 9:00 pm Dinner\, Entertainment and Program<BR>$65 SDNCC member\, $100 non-members</H3><BR><TABLE cellSpacing=0 cellPadding=4 width=350 border=0><TBODY><TR><TD vAlign=top width=80><STRONG>Enjoy:</STRONG></TD><TD>Beer tastings by Stone Brewery<BR>Wine Tastings by Bernardo Winery</TD></TR></TBODY></TABLE><P>Special Celebrity Guests will empower you to make a difference with the San Diego North Education Foundation.</P><TABLE cellSpacing=0 cellPadding=4 width=350 border=0><TBODY><TR><TD vAlign=top width=80><STRONG>Featuring:</STRONG></TD><TD>Anisha Nicole Gwynn<BR>Tony Gwynn<BR>Dennis Green<BR>Jeff Moorad<BR>and Tom Brunansky<BR></TD></TR></TBODY></TABLE><P>Spend an evening taking in the amazingly beautiful panorama from the Del Lago Gardens at Maderas Golf Club\, followed by an exciting and entertaining program in the spectacular Del Lago Ballroom.</P><P>Celebrate the best and brightest of San Diego County’s business community. Highlighting achievements in corporate and individual categories\, we will honor <STRONG>A</STRONG>chievements in <STRONG>B</STRONG>usiness <STRONG>L</STRONG>eadership <STRONG>E</STRONG>xcellence in six prestigious categories.</P><P>This event is a true celebration of doing business successfully\, doing business responsibly\, and doing business in the spirit of San Diego North. With the ABLE awards\, the crowning of the 2009-2010 Honorary Mayor\, and the unveiling of the new San Diego North Education Foundation. This year\, more than ever\, will be a year of excitement\, dedication to education\, and celebration of business.</P><P>Be there for the Launch of the San Diego North Education Foundation and the Installation of Foundation Chair\, Alicia Gwynn<BR>With musical entertainment provided by Anisha Nicole Gwynn.</P></DIV>
LOCATION:Maderas Golf Club
UID:e.784.834
SEQUENCE:3
DTSTAMP:20260424T170440Z
URL:https://chamber.sdbusinesschamber.com/events/details/celebration-of-business-2009-06-28-2009-834
END:VEVENT

END:VCALENDAR
