BEGIN:VCALENDAR
VERSION:2.0
PRODID:-//ChamberMaster//Event Calendar 2.0//EN
METHOD:PUBLISH
X-PUBLISHED-TTL:P3D
REFRESH-INTERVAL:P3D
CALSCALE:GREGORIAN
BEGIN:VEVENT
DTSTART;VALUE=DATE:20210215
DTEND;VALUE=DATE:20210222
TRANSP:TRANSPARENT
X-MICROSOFT-CDO-ALLDAYEVENT:TRUE
SUMMARY:Celebrate Black History Month Auction
DESCRIPTION:Celebrate Black History Month Auction - \n\nAfricana\, Folk Art\, Gems\, Coins\, Antiques\, celebrate with us! To get upcoming auctions\, text ncauctions to 77222. Email or text with questions (619) 789-7848 Nate@NorthCountyAuctions.com
X-ALT-DESC;FMTTYPE=text/html:<span style="background-color:rgb(251\, 251\, 251)\; color:rgb(0\, 0\, 0)\; font-family:arial\,helvetica\,sans-serif">Celebrate&nbsp\;</span>Black History Month Auction -&nbsp\;<br />\n<span style="background-color:rgb(251\, 251\, 251)\; color:rgb(0\, 0\, 0)\; font-family:arial\,helvetica\,sans-serif">Africana\, Folk Art\, Gems\, Coins\, Antiques\, celebrate with us! To get upcoming auctions\, text ncauctions to 77222. Email or text with questions (619) 789-7848 Nate@NorthCountyAuctions.com</span>
LOCATION:northcountyauctions.com
UID:e.784.27393
SEQUENCE:3
DTSTAMP:20260425T141701Z
URL:https://chamber.sdbusinesschamber.com/events/details/celebrate-black-history-month-auction-27393
END:VEVENT

END:VCALENDAR
