BEGIN:VCALENDAR
VERSION:2.0
PRODID:-//ChamberMaster//Event Calendar 2.0//EN
METHOD:PUBLISH
X-PUBLISHED-TTL:P3D
REFRESH-INTERVAL:P3D
CALSCALE:GREGORIAN
BEGIN:VEVENT
DTSTART:20101205T170000Z
DTEND:20101205T230000Z
X-MICROSOFT-CDO-ALLDAYEVENT:FALSE
SUMMARY:Carmel Mountain Ranch Holiday Festival 2010
DESCRIPTION:The 15th annual Carmel Mountain Ranch Holiday Festival offers an  excellent opportunity to introduce your business or organization to  15\,000 expected visitors from Carmel Mountain Ranch and surrounding  communities. Approximately 200 booths for arts & crafts\, businesses\,  health\, food\, public service and religious exhibits will participate in  this 15th annual street fair. The fair includes a Kids Zone with  carnival rides\, games and food\, a Classic Car Show and all-day live  entertainment\, plus many other activities.
X-ALT-DESC;FMTTYPE=text/html:<div>The 15th annual Carmel Mountain Ranch Holiday Festival offers an  excellent opportunity to introduce your business or organization to  15\,000 expected visitors from Carmel Mountain Ranch and surrounding  communities. Approximately 200 booths for arts &amp\; crafts\, businesses\,  health\, food\, public service and religious exhibits will participate in  this 15th annual street fair. The fair includes a Kids Zone with  carnival rides\, games and food\, a Classic Car Show and all-day live  entertainment\, plus many other activities.</div>
LOCATION:Carmel Mountain Road between Highland Ranch Road and Stoney Peak Road.
UID:e.784.945
SEQUENCE:3
DTSTAMP:20260423T152649Z
URL:https://chamber.sdbusinesschamber.com/events/details/carmel-mountain-ranch-holiday-festival-2010-12-05-2010-945
END:VEVENT

END:VCALENDAR
