BEGIN:VCALENDAR
VERSION:2.0
PRODID:-//ChamberMaster//Event Calendar 2.0//EN
METHOD:PUBLISH
X-PUBLISHED-TTL:P3D
REFRESH-INTERVAL:P3D
CALSCALE:GREGORIAN
BEGIN:VEVENT
DTSTART:20130831T180000Z
DTEND:20130831T190000Z
X-MICROSOFT-CDO-ALLDAYEVENT:FALSE
SUMMARY:Carlsbad Solar Luncheon
DESCRIPTION:You're invited to attend a free\, informational solar luncheon at the newly solarized Bressi Ranch Pizza Port. The hour-long presentation will cover solar technology\, rebates and incentives\, a local case study and what to expect with the upcoming SDG&E rate hike. Lunch is provided\, and RSVP is appreciated. Please call 858-271-7758 to RSVP or for more information.
X-ALT-DESC;FMTTYPE=text/html:<span style="font-family: arial\, sans-serif\; font-size: 12.800000190734863px\;">You&#39\;re invited to attend a free\, informational solar luncheon at the newly solarized Bressi Ranch Pizza Port. The hour-long presentation will cover solar technology\, rebates and incentives\, a local case study and what to expect with the upcoming SDG&amp\;E rate hike. Lunch is provided\, and RSVP is appreciated. Please call 858-271-7758 to RSVP or for more information.&nbsp\;</span>
LOCATION:Bressi Ranch Pizza Port\, 2730 Gateway Road\, Carlsbad\, CA\, 92009
UID:e.784.2931
SEQUENCE:3
DTSTAMP:20260421T155618Z
URL:https://chamber.sdbusinesschamber.com/events/details/carlsbad-solar-luncheon-08-31-2013-2931
END:VEVENT

END:VCALENDAR
