BEGIN:VCALENDAR
VERSION:2.0
PRODID:-//ChamberMaster//Event Calendar 2.0//EN
METHOD:PUBLISH
X-PUBLISHED-TTL:P3D
REFRESH-INTERVAL:P3D
CALSCALE:GREGORIAN
BEGIN:VEVENT
DTSTART:20120504T010000Z
DTEND:20120504T050000Z
X-MICROSOFT-CDO-ALLDAYEVENT:FALSE
SUMMARY:Caribbean Nights
DESCRIPTION:Want to enjoy an island getaway? Join us as San Diego Children's Discovery Museum is transformed into a warm Caribbean paradise complete with live music from Trinidad to Cuba and cold drinks and exotic foods by Stone Brewing Co. The night will also feature an auction and prize drawings with exciting items that range from a dinner prepared by a private chef in your home to weekend getaways at the beach or in the mountains and even a two week Caribbean vacation in Saint Martin.\n\n\n\n\n\nTo purchase tickets go to www.sdcdm.org or call 760.233.7755
X-ALT-DESC;FMTTYPE=text/html:Want to enjoy an island getaway? Join us as San Diego Children&#39\;s Discovery Museum is transformed into a warm Caribbean paradise complete with live music from Trinidad to Cuba and cold drinks and exotic foods by Stone Brewing Co. The night will also feature an auction and prize drawings with exciting items that range from a dinner prepared by a private chef in your home to weekend getaways at the beach or in the mountains and even a two week Caribbean vacation in Saint Martin.<br />\n<br />\n<br />\nTo purchase tickets go to <a href="http://www.sdcdm.org">www.sdcdm.org</a> or call 760.233.7755
LOCATION:San Diego Children's Discovery Museum 320 N. Broadway Escondido\, CA 92025
UID:e.784.2626
SEQUENCE:3
DTSTAMP:20260422T171646Z
URL:https://chamber.sdbusinesschamber.com/events/details/caribbean-nights-05-03-2012-2626
END:VEVENT

END:VCALENDAR
