BEGIN:VCALENDAR
VERSION:2.0
PRODID:-//ChamberMaster//Event Calendar 2.0//EN
METHOD:PUBLISH
X-PUBLISHED-TTL:P3D
REFRESH-INTERVAL:P3D
CALSCALE:GREGORIAN
BEGIN:VEVENT
DTSTART:20130217T040000Z
DTEND:20130217T060000Z
X-MICROSOFT-CDO-ALLDAYEVENT:FALSE
SUMMARY:Capitol Steps - ?We Put the MOCK in Democracy!?
DESCRIPTION:The Capitol Steps began as a group of Senate staffers who set out to satirize the very people and places that employed them. The group was born in December\, 1981 when some staffers for Senator Charles Percy were planning entertainment for a Christmas party. Their first idea was to stage a nativity play\, but in the whole Congress they couldn't find three wise men or a virgin. So\, they decided to dig into the headlines of the day\, and they created song parodies & skits which conveyed a special brand of satirical humor. Since they began\, the Capitol Steps have recorded over 30 albums\, including their latest\, Desperate Housemembers. They've been featured on NBC\, CBS\, ABC\, and PBS\, and can be heard 4 times a year on National Public Radio stations nationwide during their Politics Takes a Holiday radio specials.
X-ALT-DESC;FMTTYPE=text/html:<p class="MsoNormal" style="margin: 0in 0in 0pt">\n	<span style="mso-bidi-font-family: calibri\; mso-bidi-theme-font: minor-latin"><font size="3"><font color="#000000"><font face="Calibri">The Capitol Steps began as a group of Senate staffers who set out to satirize the very people and places that employed them. The group was born in December\, 1981 when some staffers for Senator Charles Percy were planning entertainment for a Christmas party. Their first idea was to stage a nativity play\, but in the whole Congress they couldn&#39\;t find three wise men or a virgin. So\, they decided to dig into the headlines of the day\, and they created song parodies &amp\; skits which conveyed a special brand of satirical humor. Since they began\, the Capitol Steps have recorded over 30 albums\, including their latest\, <i style="mso-bidi-font-style: normal">Desperate Housemembers</i>. They&#39\;ve been featured on NBC\, CBS\, ABC\, and PBS\, and can be heard 4 times a year on National Public Radio stations nationwide during their <i style="mso-bidi-font-style: normal">Politics Takes a Holiday</i> radio specials.<o:p></o:p></font></font></font></span></p>\n<p class="MsoNormal" style="line-height: normal\; margin: 0in 0in 10pt">\n	<o:p><font color="#000000" face="Calibri" size="3">&nbsp\;</font></o:p></p>\n
LOCATION:Poway Center for the Performing Arts 15498 Espola Road\, Poway\, CA 92064
UID:e.784.2665
SEQUENCE:3
DTSTAMP:20260422T014409Z
URL:https://chamber.sdbusinesschamber.com/events/details/capitol-steps-we-put-the-mock-in-democracy-02-16-2013-2665
END:VEVENT

END:VCALENDAR
