BEGIN:VCALENDAR
VERSION:2.0
PRODID:-//ChamberMaster//Event Calendar 2.0//EN
METHOD:PUBLISH
X-PUBLISHED-TTL:P3D
REFRESH-INTERVAL:P3D
CALSCALE:GREGORIAN
BEGIN:VEVENT
DTSTART:20210217T200000Z
DTEND:20210217T210000Z
X-MICROSOFT-CDO-ALLDAYEVENT:FALSE
SUMMARY:Cal Coast Credit Union Financial Wellness Webinar - Navigating Your Business Through Difficult Times
DESCRIPTION:Join us to discuss the simple steps you can take to successfully manage your business during the pandemic and what resources and services are available today to help your business during these difficult times. Topics will include managing your finances effectively\, operational best practices and the current financial assistance resources available to you as a business owner.\n\n \n\nThis workshop is free\, open to everyone and you can easily stream it directly to your computer\, smartphone or other device.\n\n\n\nDisclaimer: The tips provided are for informational purposes only and in no way should be relied upon for financial\, tax\, or legal advice. The information is subject to change without notice. California Coast Credit Union encourage you to do your own due diligence when making decisions regarding your financial management.
X-ALT-DESC;FMTTYPE=text/html:<div>&nbsp\;</div>\n\n<div>Join us to discuss the simple steps you can take to successfully manage your business during the pandemic and what resources and services are available today to help your business during these difficult times. Topics will include managing your finances effectively\, operational best practices and the current financial assistance resources available to you as a business owner.</div>\n\n<div>&nbsp\;</div>\n\n<div>This workshop is free\, open to everyone and you can easily stream it directly to your computer\, smartphone or other device.<br />\n<br />\nDisclaimer: The tips provided are for informational purposes only and in no way should be relied upon for financial\, tax\, or legal advice. The information is subject to change without notice. California Coast Credit Union encourage you to do your own due diligence when making decisions regarding your financial management.</div>\n
LOCATION:GoToWebinar
UID:e.784.27230
SEQUENCE:3
DTSTAMP:20260425T142603Z
URL:https://chamber.sdbusinesschamber.com/events/details/cal-coast-credit-union-financial-wellness-webinar-navigating-your-business-through-difficult-times-27230
END:VEVENT

END:VCALENDAR
