BEGIN:VCALENDAR
VERSION:2.0
PRODID:-//ChamberMaster//Event Calendar 2.0//EN
METHOD:PUBLISH
X-PUBLISHED-TTL:P3D
REFRESH-INTERVAL:P3D
CALSCALE:GREGORIAN
BEGIN:VEVENT
DTSTART:20130227T160000Z
DTEND:20130228T000000Z
X-MICROSOFT-CDO-ALLDAYEVENT:FALSE
SUMMARY:C-STARR Cyber Attack Detection and Response Tabletop Exercise
DESCRIPTION:The C-STARR Cyber Attack Detection and Response Tabletop Exercise will challenge participants to troubleshoot network impacts and respond to disruptions in business following a targeted cyber attack.\n\n\n\nThroughout this day-long event\, participants will role-play as employees of fictitious small businesses and interact directly with law enforcement and technical subject matter experts to uncover the sequence of events that negatively affected their business operations and perhaps even brought them to a standstill. Participants will develop a plan to mitigate the effects of the attack\, keep their customers and clients satisfied\, and prevent future attacks from crippling their business.\n\n \n\nThis event will be an eye-opening experience for business participants\, whether in management or technical positions\, demonstrating the power and threats of doing business in cyber-connected world\, as well as the responsibility to make cyber security a priority.
X-ALT-DESC;FMTTYPE=text/html:<span style="font-size:10.0pt\;font-family:&quot\;Arial&quot\;\,&quot\;sans-serif&quot\;">The C-STARR Cyber Attack Detection and Response Tabletop Exercise will challenge participants to troubleshoot network impacts and respond to disruptions in business following a targeted cyber attack.<br />\n<br />\nThroughout this day-long event\, participants will role-play as employees of fictitious small businesses and interact directly with law enforcement and technical subject matter experts to uncover the sequence of events that negatively affected their business operations and perhaps even brought them to a standstill. Participants will develop a plan to mitigate the effects of the attack\, keep their customers and clients satisfied\, and prevent future attacks from crippling their business.<br />\n&nbsp\;<br />\nThis event will be an eye-opening experience for business participants\, whether in management or technical positions\, demonstrating the power and threats of doing business in cyber-connected world\, as well as the responsibility to make cyber security a priority.</span>
LOCATION:County of San Diego\, Office of Emergency Services 5580 Overland Ave Suite 100 San Diego\, CA 92123
UID:e.784.2839
SEQUENCE:3
DTSTAMP:20260422T014240Z
URL:https://chamber.sdbusinesschamber.com/events/details/c-starr-cyber-attack-detection-and-response-tabletop-exercise-02-27-2013-2839
END:VEVENT

END:VCALENDAR
