BEGIN:VCALENDAR
VERSION:2.0
PRODID:-//ChamberMaster//Event Calendar 2.0//EN
METHOD:PUBLISH
X-PUBLISHED-TTL:P3D
REFRESH-INTERVAL:P3D
CALSCALE:GREGORIAN
BEGIN:VEVENT
DTSTART:20120913T183000Z
DTEND:20120913T203000Z
X-MICROSOFT-CDO-ALLDAYEVENT:FALSE
SUMMARY:Business Salute to Police and Public Safety Luncheon
DESCRIPTION:Join us in recognizing the hard work and commitment of those who serve and protect our region at the 1st annual Police and Public Safety Awards Luncheon in North County.\n\n\n\nThe 2012 awards will show the dedication of sworn officers\, administrators and community volunteers who have gone above and beyond in their efforts to serve the region.\n\n\n2012 Honorees\n\nOfficer Ryan Swafford\n\nCalifornia Highway Patrol\n\n \n\nSergeant Uwe Dorendorf\n\nCalifornia Highway Patrol\n\n \n\nCaptain Skip Clark\n\nCarlsbad Fire Department\n\n \n\nParamedic Firefighter Scott Tucker and Captain Eric Evonsion\n\nCarlsbad Fire Department\n\n \n\nResident Agent in Charge Nathan Jones\n\nDrug Enforcement Administration\n\n \n\nSpecial Agent Nicholas C. Beretta\n\nDrug Enforcement Administration\n\n \n\nFirefighter Chad Delude\n\nEncinitas Fire Department\n\n \n\nDeputy Fire Marshal Mari Hill\n\nEscondido Fire Department\n\n \n\nFire Captain Bill Atkins\n\n Escondido Fire Department\n\n \n\nCommunity Outreach Liaison Leticia Garduno\n\nEscondido Police Department\n\n \n\nSergeant Al Owens\n\nEscondido Police Department\n\n \n\n Special Agent Julie Lombardi\n\nFederal Bureau of Investigation\n\n \n\nSpecial Agent Mathew Zeman\n\nFederal Bureau of Investigation\n\n \n\nCorporal Charles Swearingen\n\nMurrieta Police Department\n\n \n\nOfficer John Martin\n\nMurrieta Police Department\n\n \n\nCatalina Pierce\n\nNorth County District Attorney's Office\n\n \n\nLuis Rudisell\n\nNorth County District Attorney's Office\n\n \n\nDon Kaiser\, Volunteer\n\nOceanside Fire Department\n\n \n\nFire Safety Specialist Greg VanVorhees\n\nOceanside Fire Department\n\n \n\nDetective Jack Reed\n\nOceanside Police Department\n\n \n\nField Evidence Technician Marissa McLain\n\nOceanside Police Department\n\n \n\nOfficer Matt Leighton\n\nSan Diego County Probation Department\n\n \n\nOfficer Stephen Greene\n\nSan Diego County Probation Department\n\n \n\nDeputy Jacob Pavlenko\n\nSan Diego County Sheriff's Department\n\n \n\nDeputy Jeff Creighton\n\nSan Diego County Sheriff's Department\n\n \n\nBattalion Chief Kevin Ester\n\nSan Diego Fire Department\n\n \n\nCaptain Chris Babler\n\nSan Diego Fire Department\n\n \n\nDetective Christopher Felan\n\nSan Diego Police Department\n\n \n\nSergeant Ernie Servin\n\nSan Diego Police Department\n\n \n\nBorder Patrol Agent Manuel "Manny" Barrera\n\nU.S. Border Patrol\n\n \n\nBorder Patrol Agent Salvador "Sal" Pinones\n\nU.S. Border Patrol\n\n \n\nRAC Robert Claborn\n\nU.S. Immigration and Customs Enforcement\n\n \n\nSA Jorge Nieto\n\nU.S. Immigration and Customs Enforcement\n\nDeputy U.S. Marshal Steve Chaco\n\nU.S. Marshals\n\n \n\nSupervisory Deputy Ray Gellatly\n\nU.S. Marshals\n\n \n\nEngineer Kelcey Sass\n\nVista Fire Department\n\n \n\nFire Captain Craig Usher\n\nVista Fire Department
X-ALT-DESC;FMTTYPE=text/html:Join us in recognizing the hard work and commitment of those who serve and protect our region at the 1st annual Police and Public Safety Awards Luncheon in North County.<br />\n<br />\nThe 2012 awards will show the dedication of sworn officers\, administrators and community volunteers who have gone above and beyond in their efforts to serve the region.\n<h1><br />\n<strong>2012 Honorees</strong></h1>\n\n<p><span style="font-size:14px\;"><span style="font-family:arial\;">Officer Ryan Swafford<br />\nCalifornia Highway Patrol<br />\n&nbsp\;<br />\nSergeant Uwe Dorendorf<br />\nCalifornia Highway Patrol<br />\n&nbsp\;<br />\nCaptain Skip Clark<br />\nCarlsbad Fire Department<br />\n&nbsp\;<br />\nParamedic Firefighter Scott Tucker and Captain Eric Evonsion<br />\nCarlsbad Fire Department<br />\n&nbsp\;<br />\nResident Agent in Charge Nathan Jones<br />\nDrug Enforcement Administration<br />\n&nbsp\;<br />\nSpecial Agent Nicholas C. Beretta<br />\nDrug Enforcement Administration<br />\n&nbsp\;<br />\nFirefighter Chad Delude<br />\nEncinitas Fire Department<br />\n&nbsp\;<br />\nDeputy Fire Marshal Mari Hill<br />\nEscondido Fire Department<br />\n&nbsp\;<br />\nFire Captain Bill Atkins<br />\n&nbsp\;Escondido Fire Department<br />\n&nbsp\;<br />\nCommunity Outreach Liaison Leticia Garduno<br />\nEscondido Police Department<br />\n&nbsp\;<br />\nSergeant Al Owens<br />\nEscondido Police Department<br />\n&nbsp\;<br />\n&nbsp\;Special Agent Julie Lombardi<br />\nFederal Bureau of Investigation<br />\n&nbsp\;<br />\nSpecial Agent Mathew Zeman<br />\nFederal Bureau of Investigation<br />\n&nbsp\;<br />\nCorporal Charles Swearingen<br />\nMurrieta Police Department<br />\n&nbsp\;<br />\nOfficer John Martin<br />\nMurrieta Police Department<br />\n&nbsp\;<br />\nCatalina Pierce<br />\nNorth County District Attorney&#39\;s Office<br />\n&nbsp\;<br />\nLuis Rudisell<br />\nNorth County District Attorney&#39\;s Office<br />\n&nbsp\;<br />\nDon Kaiser\, Volunteer<br />\nOceanside Fire Department<br />\n&nbsp\;<br />\nFire Safety Specialist Greg VanVorhees<br />\nOceanside Fire Department<br />\n&nbsp\;<br />\nDetective Jack Reed<br />\nOceanside Police Department<br />\n&nbsp\;<br />\nField Evidence Technician Marissa McLain<br />\nOceanside Police Department<br />\n&nbsp\;<br />\nOfficer Matt Leighton<br />\nSan Diego County Probation Department<br />\n&nbsp\;<br />\nOfficer Stephen Greene<br />\nSan Diego County Probation Department<br />\n&nbsp\;<br />\nDeputy Jacob Pavlenko<br />\nSan Diego County Sheriff&#39\;s Department<br />\n&nbsp\;<br />\nDeputy Jeff Creighton<br />\nSan Diego County Sheriff&#39\;s Department<br />\n&nbsp\;<br />\nBattalion Chief Kevin Ester<br />\nSan Diego Fire Department<br />\n&nbsp\;<br />\nCaptain Chris Babler<br />\nSan Diego Fire Department<br />\n&nbsp\;<br />\nDetective Christopher Felan<br />\nSan Diego Police Department<br />\n&nbsp\;<br />\nSergeant Ernie Servin<br />\nSan Diego Police Department<br />\n&nbsp\;<br />\nBorder Patrol Agent Manuel &quot\;Manny&quot\; Barrera<br />\nU.S. Border Patrol<br />\n&nbsp\;<br />\nBorder Patrol Agent Salvador &quot\;Sal&quot\; Pinones<br />\nU.S. Border Patrol<br />\n&nbsp\;<br />\nRAC Robert Claborn<br />\nU.S. Immigration and Customs Enforcement<br />\n&nbsp\;<br />\nSA Jorge Nieto<br />\nU.S. Immigration and Customs Enforcement<br />\nDeputy U.S. Marshal Steve Chaco<br />\nU.S. Marshals<br />\n&nbsp\;<br />\nSupervisory Deputy Ray Gellatly<br />\nU.S. Marshals<br />\n&nbsp\;<br />\nEngineer Kelcey Sass<br />\nVista Fire Department<br />\n&nbsp\;<br />\nFire Captain Craig Usher<br />\nVista Fire Department</span></span></p>\n
LOCATION:California Center for the Arts 340 North Escondido Boulevard Escondido\, CA 92025
UID:e.784.2642
SEQUENCE:3
DTSTAMP:20260422T092900Z
URL:https://chamber.sdbusinesschamber.com/events/details/business-salute-to-police-and-public-safety-luncheon-09-13-2012-2642
END:VEVENT

END:VCALENDAR
