BEGIN:VCALENDAR
VERSION:2.0
PRODID:-//ChamberMaster//Event Calendar 2.0//EN
METHOD:PUBLISH
X-PUBLISHED-TTL:P3D
REFRESH-INTERVAL:P3D
CALSCALE:GREGORIAN
BEGIN:VEVENT
DTSTART;VALUE=DATE:20130912
DTEND;VALUE=DATE:20130913
TRANSP:TRANSPARENT
X-MICROSOFT-CDO-ALLDAYEVENT:TRUE
SUMMARY:Business Salute to Police and Public Safety
DESCRIPTION:The Second Annual Awards Luncheon honored those who serve and protect our region. The 2013 Awards showcased the dedicated officers\, administrators\, and community volunteers who have gone above and beyond in their duties.\n\n\n\nCongratulations to the Honorees!\n\n\n\n\n\nBorder Patrol Agent Anthony Clark                   \n\nUS Border Patrol           \n\n       \n\nOfficer Joseph Sansom\n\nCalifornia Highway Patrol\n\n\n\nSergeant William Payson\n\nCalifornia Highway Patrol\n\n\n\nDeputy Fire Marshal Greg Ryan\n\nCarlsbad Fire Department\n\n\n\nFirefighter Paramedic Andy Spear\n\nCarlsbad Fire Department\n\n\n\nSergeant Richard Beronda\n\nCarlsbad Police Department\n\n\n\nOfficer Stephan Tashoff\n\nCarlsbad Police Department\n\n\n\nSpecial Agent Michael H. Crawford\n\nDrug Enforcement Administration\n\n\n\nSpecial Agent Kyle Holley\n\nDrug Enforcement Administration\n\n\n\nSuzanne Dupree\, Bureau Paralegal\n\nDistrict Attorney's Office North County\n\n\n\nTom Morgans\, DA Investigator\n\nDistrict Attorney's Office North County\n\n\n\nKevin Johnson\, Volunteer\n\nEscondido Fire Department\n\n\n\nFire Captain Scott Barratt\n\nEscondido Fire Department\n\n\n\nOfficer Steve Braucht\n\nEscondido Police Department\n\n\n\nDetective Jeff Udvarhelyi\n\nEscondido Police Department\n\n\n\nSpecial Agent Michael J. Rod\n\nFederal Bureau of Investigation\n\n\n\nSpecial Agent Andy Masters\n\nFederal Bureau of Investigation\n\n\n\nSpecial Agent Meaghan Queally\n\nImmigration and Customs Enforcement\n\n\n\nSpecial Agent Janell Sherbourne\n\nImmigration and Customs Enforcement\n\n\n\nCaptain Eric Ballard\n\nMurrieta Fire Department\n\n\n\nEMS Manager Art Durbin\n\nMurrieta Fire Department\n\n\n\n CAD/RMS Administrator Julie Shannon\n\nMurrieta Police Department\n\n\n\nPolice Corporal Jay Elliot \n\nMurrieta Police Department\n\n\n\nCaptain Rick Rees\n\nNorth County Fire Protection District\n\n\n\nRenae Rasmussen\n\nNorth County Fire Protection District\n\n\n\nOfficer Matt Lyons\n\nOceanside Police Department\n\n\n\nSenior Crime Analyst Stephen Walter\n\nOceanside Police Department\n\n\n\nDeputy Police Officer Darrin Knox\n\nSan Diego County Probation\n\n\n\nSenior Probation Officer Patricia Martinez\n\nSan Diego County Probation\n\n\n\nLifeguard Sergeant James Gartland\n\nSan Diego Fire & Rescue Department\n\n\n\nCaptain Robert Allen\n\nSan Diego Fire & Rescue Department\n\n\n\nCaptain Tony Ferragamo\n\nSan Diego Fire & Rescue Department\n\n\n\nDetective James Jones\n\nSan Diego Police Department\n\n\n\nActing Detective Craig Parpart\n\nSan Diego Police Department\n\n\n\nDeputy Justin Cheney\n\nSan Diego Sheriff's Department\n\n\n\nSergeant Todd Norton\n\nSan Diego Sheriff's Department\n\n\n\nOfficer Robert Romero\n\nTemecula Police Department\n\n\n\nOfficer Hector Velazquez\n\nTemecula Police Department
X-ALT-DESC;FMTTYPE=text/html:<br />\n<span style="font-size: 12px\;"><span style="font-family: arial\;"><span style="color:#000000\;"><span style="font-size:14px\;"><span style="font-size:12px\;">The Second Annual Awards Luncheon honored those who serve and protect our region. The 2013 Awards showcased the dedicated officers\, administrators\, and community volunteers who have gone above and beyond in their duties.</span></span><br />\n<br />\n<em><strong><span style="font-size:14px\;"><span style="font-size:12px\;">Congratulations to the Honorees!</span></span></strong></em><br />\n<br />\n<br />\n<strong>Border Patrol Agent Anthony Clark</strong></span></span></span><span style="color:#000000\;">&nbsp\;&nbsp\;&nbsp\;&nbsp\;&nbsp\;&nbsp\;&nbsp\;&nbsp\;&nbsp\;&nbsp\;&nbsp\;&nbsp\;&nbsp\;&nbsp\;&nbsp\;&nbsp\; &nbsp\;&nbsp\;<br />\n<span style="font-size: 12px\;"><span style="font-family: arial\;"><em>US Border Patrol</em></span></span>&nbsp\;&nbsp\;&nbsp\; &nbsp\;&nbsp\;&nbsp\; &nbsp\;&nbsp\;&nbsp\;<br />\n&nbsp\;&nbsp\;&nbsp\;&nbsp\;&nbsp\;&nbsp\;&nbsp\;<br />\n<span style="font-size: 12px\;"><span style="font-family: arial\;"><strong>Officer Joseph Sansom</strong><br />\n<em>California Highway Patrol</em><br />\n<br />\n<strong>Sergeant William Payson</strong><br />\n<em>California Highway Patrol</em><br />\n<br />\n<strong>Deputy Fire Marshal Greg Ryan</strong><br />\n<em>Carlsbad Fire Department</em><br />\n<br />\n<strong>Firefighter Paramedic Andy Spear</strong><br />\n<em>Carlsbad Fire Department</em><br />\n<br />\n<strong>Sergeant Richard Beronda</strong><br />\n<em>Carlsbad Police Department</em><br />\n<br />\n<strong>Officer Stephan Tashoff</strong><br />\n<em>Carlsbad Police Department</em><br />\n<br />\n<strong>Special Agent Michael H. Crawford</strong><br />\n<em>Drug Enforcement Administration</em><br />\n<br />\n<strong>Special Agent Kyle Holley</strong><br />\n<em>Drug Enforcement Administration</em><br />\n<br />\n<strong>Suzanne Dupree\, Bureau Paralegal</strong><br />\n<em>District Attorney&#39\;s Office North County</em><br />\n<br />\n<strong>Tom Morgans\, DA Investigator</strong><br />\n<em>District Attorney&#39\;s Office North County</em><br />\n<br />\n<strong>Kevin Johnson\, Volunteer</strong><br />\n<em>Escondido Fire Department</em><br />\n<br />\n<strong>Fire Captain Scott Barratt</strong><br />\n<em>Escondido Fire Department</em><br />\n<br />\n<strong>Officer Steve Braucht</strong><br />\n<em>Escondido Police Department</em><br />\n<br />\n<strong>Detective Jeff Udvarhelyi</strong><br />\n<em>Escondido Police Department</em><br />\n<br />\n<strong>Special Agent Michael J. Rod</strong><br />\n<em>Federal Bureau of Investigation</em><br />\n<br />\n<strong>Special Agent Andy Masters</strong><br />\n<em>Federal Bureau of Investigation</em><br />\n<br />\n<strong>Special Agent Meaghan Queally</strong><br />\n<em>Immigration and Customs Enforcement</em><br />\n<br />\n<strong>Special Agent Janell Sherbourne</strong><br />\n<em>Immigration and Customs Enforcement</em><br />\n<br />\n<strong>Captain Eric Ballard</strong><br />\n<em>Murrieta Fire Department</em><br />\n<br />\n<strong>EMS Manager Art Durbin</strong><br />\n<em>Murrieta Fire Department</em><br />\n<br />\n<strong>&nbsp\;CAD/RMS Administrator Julie Shannon</strong><br />\n<em>Murrieta Police Department</em><br />\n<br />\n<strong>Police Corporal Jay Elliot </strong><br />\n<em>Murrieta Police Department</em><br />\n<br />\n<strong>Captain Rick Rees</strong><br />\n<em>North County Fire Protection District</em><br />\n<br />\n<strong>Renae Rasmussen</strong><br />\n<em>North County Fire Protection District</em><br />\n<br />\n<strong>Officer Matt Lyons</strong><br />\n<em>Oceanside Police Department</em><br />\n<br />\n<strong>Senior Crime Analyst Stephen Walter</strong><br />\n<em>Oceanside Police Department</em><br />\n<br />\n<strong>Deputy Police Officer Darrin Knox</strong><br />\n<em>San Diego County Probation</em></span></span></span><br />\n<br />\n<span style="font-size:12px\;"><span style="font-family: arial\;"><span style="color:#000000\;"><strong>Senior Probation Officer Patricia Martinez</strong><br />\n<em>San Diego County Probation</em><br />\n<br />\n<strong>Lifeguard Sergeant James Gartland</strong><br />\n<em>San Diego Fire &amp\; Rescue Department</em><br />\n<br />\n<strong>Captain Robert Allen</strong><br />\n<em>San Diego Fire &amp\; Rescue Department</em><br />\n<br />\n<strong>Captain Tony Ferragamo</strong><br />\n<em>San Diego Fire &amp\; Rescue Department</em><br />\n<br />\n<strong>Detective James Jones</strong><br />\n<em>San Diego Police Department</em><br />\n<br />\n<strong>Acting Detective Craig Parpart</strong><br />\n<em>San Diego Police Department</em><br />\n<br />\n<strong>Deputy Justin Cheney</strong><br />\n<em>San Diego Sheriff&#39\;s Department</em><br />\n<br />\n<strong>Sergeant Todd Norton</strong><br />\n<em>San Diego Sheriff&#39\;s Department</em><br />\n<br />\n<strong>Officer Robert Romero</strong><br />\n<em>Temecula Police Department</em><br />\n<br />\n<strong>Officer Hector Velazquez</strong><br />\n<em>Temecula Police Department</em></span></span></span><br />\n&nbsp\;
LOCATION:California Center for the Arts 340 North Escondido Boulevard Escondido\, CA 92025
UID:e.784.2912
SEQUENCE:3
DTSTAMP:20260421T144312Z
URL:https://chamber.sdbusinesschamber.com/events/details/business-salute-to-police-and-public-safety-09-12-2013-2912
END:VEVENT

END:VCALENDAR
