BEGIN:VCALENDAR
VERSION:2.0
PRODID:-//ChamberMaster//Event Calendar 2.0//EN
METHOD:PUBLISH
X-PUBLISHED-TTL:P3D
REFRESH-INTERVAL:P3D
CALSCALE:GREGORIAN
BEGIN:VEVENT
DTSTART:20110920T220000Z
DTEND:20110921T000000Z
X-MICROSOFT-CDO-ALLDAYEVENT:FALSE
SUMMARY:Business Opportunities Between San Diego and Poland
DESCRIPTION:With its accession to the European Union and membership in NATO\, Poland has become the sixth largest economy in the EU and is ranked 20th worldwide in terms of GDP. Poland's economic growth has been fueled by fiscal responsibility\, growing investment and consumer demand. Poland is the only E.U. member that did not experience a recession\; it had positive GDP growth in 2009 & 2010 and will grow about 4% this year.\n\n\n\nCome and learn about:\n\n	\n		Poland's competitive advantage and how it could benefit your company\n	\n		Specifics about the Polish marketplace\n	\n		What Poland has to offer San Diego\n	\n		What San Diego has to offer Poland\n\nMeet representatives from Poland and from San Diego engaged in Polish business:\n\n\n\nMetrix Inc   San Diego professional services company which develops\, facilitates\, and brokers business partnerships and investment opportunities in San Diego and Poland.\n\n\n\nEnergoControl   A Polish research and development company engaged in product development for international as well as Polish markets in the fields of engineering\, electronics\, control systems\, diagnostics\, testing\, vibro acoustics and systems integration.
X-ALT-DESC;FMTTYPE=text/html:With its accession to the European Union and membership in NATO\, Poland has become the sixth largest economy in the EU and is ranked 20th worldwide in terms of GDP. Poland&rsquo\;s economic growth has been fueled by fiscal responsibility\, growing investment and consumer demand. Poland is the only E.U. member that did not experience a recession\; it had positive GDP growth in 2009 &amp\; 2010 and will grow about 4% this year.<br />\n<br />\nCome and learn about:\n<ul>\n	<li>\n		Poland&rsquo\;s competitive advantage and how it could benefit your company</li>\n	<li>\n		Specifics about the Polish marketplace</li>\n	<li>\n		What Poland has to offer San Diego</li>\n	<li>\n		What San Diego has to offer Poland</li>\n</ul>\nMeet representatives from Poland and from San Diego engaged in Polish business:<br />\n<br />\nMetrix Inc &#8208\; San Diego professional services company which develops\, facilitates\, and brokers business partnerships and investment opportunities in San Diego and Poland.<br />\n<br />\nEnergoControl &#8208\; A Polish research and development company engaged in product development for international as well as Polish markets in the fields of engineering\, electronics\, control systems\, diagnostics\, testing\, vibro&#8208\;acoustics and systems integration.
LOCATION:WORLD TRADE CENTER 2980 Pacific Highway San Diego\, CA 92101
UID:e.784.2450
SEQUENCE:3
DTSTAMP:20260423T025753Z
URL:https://chamber.sdbusinesschamber.com/events/details/business-opportunities-between-san-diego-and-poland-09-20-2011-2450
END:VEVENT

END:VCALENDAR
