BEGIN:VCALENDAR
VERSION:2.0
PRODID:-//ChamberMaster//Event Calendar 2.0//EN
METHOD:PUBLISH
X-PUBLISHED-TTL:P3D
REFRESH-INTERVAL:P3D
CALSCALE:GREGORIAN
BEGIN:VEVENT
DTSTART:20091014T070000Z
DTEND:20091014T070000Z
X-MICROSOFT-CDO-ALLDAYEVENT:FALSE
SUMMARY:Business Network Mixer October
DESCRIPTION:
X-ALT-DESC;FMTTYPE=text/html:
LOCATION:Bernardo Terrace
UID:e.784.859
SEQUENCE:3
DTSTAMP:20260424T114743Z
URL:https://chamber.sdbusinesschamber.com/events/details/business-network-mixer-october-10-14-2009-859
END:VEVENT

END:VCALENDAR
