BEGIN:VCALENDAR
VERSION:2.0
PRODID:-//ChamberMaster//Event Calendar 2.0//EN
METHOD:PUBLISH
X-PUBLISHED-TTL:P3D
REFRESH-INTERVAL:P3D
CALSCALE:GREGORIAN
BEGIN:VEVENT
DTSTART:20091118T080000Z
DTEND:20091118T080000Z
X-MICROSOFT-CDO-ALLDAYEVENT:FALSE
SUMMARY:Business Network Mixer November
DESCRIPTION:
X-ALT-DESC;FMTTYPE=text/html:
LOCATION:Unicorn Jewelry & Fine Gifts
UID:e.784.860
SEQUENCE:3
DTSTAMP:20260424T103218Z
URL:https://chamber.sdbusinesschamber.com/events/details/business-network-mixer-november-11-18-2009-860
END:VEVENT

END:VCALENDAR
