BEGIN:VCALENDAR
VERSION:2.0
PRODID:-//ChamberMaster//Event Calendar 2.0//EN
METHOD:PUBLISH
X-PUBLISHED-TTL:P3D
REFRESH-INTERVAL:P3D
CALSCALE:GREGORIAN
BEGIN:VEVENT
DTSTART:20100512T070000Z
DTEND:20100512T070000Z
X-MICROSOFT-CDO-ALLDAYEVENT:FALSE
SUMMARY:Business Network Mixer May
DESCRIPTION:
X-ALT-DESC;FMTTYPE=text/html:
LOCATION:Radisson Suite Hotel
UID:e.784.928
SEQUENCE:3
DTSTAMP:20260424T012404Z
URL:https://chamber.sdbusinesschamber.com/events/details/business-network-mixer-may-05-12-2010-928
END:VEVENT

END:VCALENDAR
