BEGIN:VCALENDAR
VERSION:2.0
PRODID:-//ChamberMaster//Event Calendar 2.0//EN
METHOD:PUBLISH
X-PUBLISHED-TTL:P3D
REFRESH-INTERVAL:P3D
CALSCALE:GREGORIAN
BEGIN:VEVENT
DTSTART:20100608T070000Z
DTEND:20100608T070000Z
X-MICROSOFT-CDO-ALLDAYEVENT:FALSE
SUMMARY:Business Network Mixer June
DESCRIPTION:
X-ALT-DESC;FMTTYPE=text/html:
LOCATION:Old Poway Park sponsored by ER Management
UID:e.784.931
SEQUENCE:3
DTSTAMP:20260424T001513Z
URL:https://chamber.sdbusinesschamber.com/events/details/business-network-mixer-june-06-08-2010-931
END:VEVENT

END:VCALENDAR
