BEGIN:VCALENDAR
VERSION:2.0
PRODID:-//ChamberMaster//Event Calendar 2.0//EN
METHOD:PUBLISH
X-PUBLISHED-TTL:P3D
REFRESH-INTERVAL:P3D
CALSCALE:GREGORIAN
BEGIN:VEVENT
DTSTART:20100113T080000Z
DTEND:20100113T080000Z
X-MICROSOFT-CDO-ALLDAYEVENT:FALSE
SUMMARY:Business Network Mixer January
DESCRIPTION:
X-ALT-DESC;FMTTYPE=text/html:
LOCATION:Pomerado Newspaper Group
UID:e.784.900
SEQUENCE:3
DTSTAMP:20260424T085113Z
URL:https://chamber.sdbusinesschamber.com/events/details/business-network-mixer-january-01-13-2010-900
END:VEVENT

END:VCALENDAR
