BEGIN:VCALENDAR
VERSION:2.0
PRODID:-//ChamberMaster//Event Calendar 2.0//EN
METHOD:PUBLISH
X-PUBLISHED-TTL:P3D
REFRESH-INTERVAL:P3D
CALSCALE:GREGORIAN
BEGIN:VEVENT
DTSTART:20100217T080000Z
DTEND:20100217T080000Z
X-MICROSOFT-CDO-ALLDAYEVENT:FALSE
SUMMARY:Business Network Mixer February
DESCRIPTION:
X-ALT-DESC;FMTTYPE=text/html:
LOCATION:Courtyard by Marriott San Diego/Rancho Bernardo
UID:e.784.908
SEQUENCE:3
DTSTAMP:20260424T072044Z
URL:https://chamber.sdbusinesschamber.com/events/details/business-network-mixer-february-02-17-2010-908
END:VEVENT

END:VCALENDAR
