BEGIN:VCALENDAR
VERSION:2.0
PRODID:-//ChamberMaster//Event Calendar 2.0//EN
METHOD:PUBLISH
X-PUBLISHED-TTL:P3D
REFRESH-INTERVAL:P3D
CALSCALE:GREGORIAN
BEGIN:VEVENT
DTSTART:20100414T070000Z
DTEND:20100414T070000Z
X-MICROSOFT-CDO-ALLDAYEVENT:FALSE
SUMMARY:Business Network Mixer April
DESCRIPTION:
X-ALT-DESC;FMTTYPE=text/html:
LOCATION:Sharp Memorial Hospital
UID:e.784.920
SEQUENCE:3
DTSTAMP:20260424T024920Z
URL:https://chamber.sdbusinesschamber.com/events/details/business-network-mixer-april-04-14-2010-920
END:VEVENT

END:VCALENDAR
