BEGIN:VCALENDAR
VERSION:2.0
PRODID:-//ChamberMaster//Event Calendar 2.0//EN
METHOD:PUBLISH
X-PUBLISHED-TTL:P3D
REFRESH-INTERVAL:P3D
CALSCALE:GREGORIAN
BEGIN:VEVENT
DTSTART:20100715T000000Z
DTEND:20100715T020000Z
X-MICROSOFT-CDO-ALLDAYEVENT:FALSE
SUMMARY:Business Network Mixer
DESCRIPTION:
X-ALT-DESC;FMTTYPE=text/html:
LOCATION:Zocalo 4S Ranch10514 Craftsman WaySan Diego CA 92127
UID:e.784.941
SEQUENCE:3
DTSTAMP:20260423T224550Z
URL:https://chamber.sdbusinesschamber.com/events/details/business-network-mixer-07-14-2010-941
END:VEVENT

END:VCALENDAR
