BEGIN:VCALENDAR
VERSION:2.0
PRODID:-//ChamberMaster//Event Calendar 2.0//EN
METHOD:PUBLISH
X-PUBLISHED-TTL:P3D
REFRESH-INTERVAL:P3D
CALSCALE:GREGORIAN
BEGIN:VEVENT
DTSTART:20120620T143000Z
DTEND:20120620T160000Z
X-MICROSOFT-CDO-ALLDAYEVENT:FALSE
SUMMARY:Business for Breakfast- June
DESCRIPTION:Limited to the first 20 people to register. Coffee and water will be provided.\n\n\n\nFree Internet Marketing Strategies That Can Dramatically       Increase your Sales in 30 days!\n\n\n	 \n\n	This fast-paced workshop is jam packed with specific strategies that you can implement immediately to drive more traffic\, generate more leads and help you dominate the search engines. Real life examples will be shown proving these strategies work!\n\n	\n\n	By attending this workshop you'll learn:\n\n	\n		7 FREE Internet marketing strategies that can drive tons of traffic to your website\n	\n		6 deadly website mistakes that you must fix immediately\n	\n		The one strategy you need to have to give you a distinct advantage over your competition\n	\n		How to discover exactly what your clients are looking for before they come to your website\n	\n		Recent changes at Google and why local search is now even more vital to your online survival\n	\n		Why video marketing is absolutely critical to your online marketing efforts\n	\n		What is search engine optimization (SEO) and why is it so important?\n	\n		Should you be using Social Media or are there better ways to spend your time and money\n	\n		The importance of Blogs\, e-mail marketing\, pay per click advertising\n	\n		How to automate and systemize your lead generation and follow up marketing efforts\n\n\n	 \n\n\n\n	 \n\n\n\n\n\n	About the\n\n	 \n\n	Speaker\nDavid Carleton is a Local Business Marketing Success Consultant who specializes in showing small business owners how to spend less and get more from their marketing and advertising using low cost strategies in local business marketing\, lead generation and conversion\, Internet marketing and social media. \n\n \n\nDave has been a keynote speaker for many industry and trade groups across the United States and is a frequent guest on KUSI and the CW Channel 6 in San Diego providing unique strategies to small business owners on Social Media\, Internet Marketing and Lead Generation.
X-ALT-DESC;FMTTYPE=text/html:Limited to the first 20 people to register. Coffee and water will be provided.<br />\n<br />\n<span _mce_style="font-size: 12pt\;" style="font-size: 12pt\;"><strong>Free Internet Marketing Strategies That Can Dramatically&nbsp\;&nbsp\;&nbsp\;&nbsp\;&nbsp\;&nbsp\; Increase your Sales in 30 days!</strong></span><br />\n<p _mce_style="margin-top: 0px\; margin-bottom: 0px\;" style="margin-top: 0px\; margin-bottom: 0px\;">\n	&nbsp\;</p>\n<p _mce_style="margin-top: 0px\; margin-bottom: 0px\; text-align: center\;" align="center" style="margin-top: 0px\; margin-bottom: 0px\; text-align: center\;">\n	This fast-paced <span>workshop is jam packed with specific strategies that you can implement immediately to drive more traffic\, generate more leads and help you dominate the search engines. Real life examples will be shown proving these strategies work!</span><br />\n	<br />\n	<strong><u>By attending this workshop you&#39\;ll learn:</u></strong></p>\n<ul>\n	<li>\n		7 FREE Internet marketing strategies that can drive tons of traffic to your website</li>\n	<li>\n		6 deadly website mistakes that you must fix immediately</li>\n	<li>\n		The one strategy you need to have to give you a distinct advantage over your competition</li>\n	<li>\n		How to discover exactly what your clients are looking for <u>before</u> they come to your website</li>\n	<li>\n		Recent changes at Google and why local search is now even more vital to your online survival</li>\n	<li>\n		Why video marketing is absolutely critical to your online marketing efforts</li>\n	<li>\n		What is search engine optimization (SEO) and why is it so important?</li>\n	<li>\n		Should you be using Social Media or are there better ways to spend your time and money</li>\n	<li>\n		The importance of Blogs\, e-mail marketing\, pay per click advertising</li>\n	<li>\n		How to automate and systemize your lead generation and follow up marketing efforts</li>\n</ul>\n<p _mce_style="margin-top: 0px\; margin-bottom: 0px\; text-align: center\;" align="center" style="margin-top: 0px\; margin-bottom: 0px\; text-align: center\;">\n	&nbsp\;</p>\n<br />\n<h4>\n	&nbsp\;</h4>\n<br />\n<br />\n<h2>\n	About the</h2>\n<h2>\n	&nbsp\;</h2>\n<h2>\n	Speaker</h2>\n<strong>David</strong><strong> Carleton</strong> is a Local Business Marketing Success Consultant who specializes in showing small business owners how to spend less and get more from their marketing and advertising using low cost strategies in local business marketing\, lead generation and conversion\, Internet marketing and social media.&nbsp\;<br />\n&nbsp\;<br />\nDave has been a keynote speaker for many industry and trade groups across the United States and is a frequent guest on KUSI and the CW Channel 6 in San Diego providing unique strategies to small business owners on Social Media\, Internet Marketing and Lead Generation.<br />\n<br />\n
LOCATION:SDNCC 10875 Rancho Bernardo Road Suite 104 San Diego CA 92127
UID:e.784.2564
SEQUENCE:3
DTSTAMP:20260422T140418Z
URL:https://chamber.sdbusinesschamber.com/events/details/business-for-breakfast-june-06-20-2012-2564
END:VEVENT

END:VCALENDAR
