BEGIN:VCALENDAR
VERSION:2.0
PRODID:-//ChamberMaster//Event Calendar 2.0//EN
METHOD:PUBLISH
X-PUBLISHED-TTL:P3D
REFRESH-INTERVAL:P3D
CALSCALE:GREGORIAN
BEGIN:VEVENT
DTSTART:20111130T153000Z
DTEND:20111130T173000Z
X-MICROSOFT-CDO-ALLDAYEVENT:FALSE
SUMMARY:Business for Breakfast
DESCRIPTION:Join the San Diego North Chamber of Commerce for a networking breakfast and business presentation.\n\n	\n		 \n	\n		Build important business relationships on a monthly basis with fellow chamber members as well as businessmen and women from across the region. In addition\, each month will host a different guest presenter to give insight into key business areas\, helping your business succeed.\n\n		 \n	7 Ways to Thrive in Any Economy\n\n	Presented by John Shaw\n\n	\n\n	\n		\n			Weak or Strong\, Faltering or Growing\, Cold or Hot - whatever the state of the economy\, there are people whose businesses and careers are thriving.  How do they do it\, and what can you learn that will ensure that you are one of the top performers?  \n		\n			 \n		\n			Seven Ways to Thrive in Any Economy\n		\n			*  Clarity - Know exactly what you want in 4 key areas\n		\n			*  Competence - Traits of the top 10%\n		\n			*  Continuous Learning - Own it!\n		\n			*  Constraint Analysis - What is in the way?  Only 20% is external - 80% is within you.\n		\n			*  Creativity - Mindstorming\n		\n			*  Concentration - Intentional Tunnel Vision\n		\n			*  Character - The right things
X-ALT-DESC;FMTTYPE=text/html:<div>\n	Join the San Diego North Chamber of Commerce for a networking breakfast and business presentation.<br />\n	<div class="msg Nth">\n		&nbsp\;</div>\n	<div>\n		Build important business relationships on a monthly basis with fellow chamber members as well as businessmen and women from across the region. In addition\, each month will host a different guest presenter to give insight into key business areas\, helping your business succeed.<br />\n		&nbsp\;</div>\n	<strong><span style="font-family: calibri\,sans-serif\;"><span style="font-size: 12pt\;">7 Ways to Thrive in Any Economy<br />\n	Presented by John Shaw</span></span></strong><br />\n	<br />\n	<div style="word-wrap:break-word">\n		<div>\n			<span style="font-size:12px\;"><span style="border-collapse: separate\; color: rgb(0\, 0\, 0)\; font-family: Arial\; font-style: normal\; font-variant: normal\; letter-spacing: normal\; line-height: normal\; text-indent: 0px\; text-transform: none\; white-space: normal\; word-spacing: 0px\;"><span style="border-collapse: separate\; color: rgb(0\, 0\, 0)\; font-family: Arial\; font-style: normal\; font-variant: normal\; letter-spacing: normal\; line-height: normal\; text-indent: 0px\; text-transform: none\; white-space: normal\; word-spacing: 0px\;"><span style="border-collapse: separate\; color: rgb(0\, 0\, 0)\; font-family: Arial\; font-style: normal\; font-variant: normal\; letter-spacing: normal\; line-height: normal\; text-indent: 0px\; text-transform: none\; white-space: normal\; word-spacing: 0px\;"><span style="border-collapse: separate\; color: rgb(0\, 0\, 0)\; font-family: Arial\; font-style: normal\; font-variant: normal\; letter-spacing: normal\; line-height: normal\; text-indent: 0px\; text-transform: none\; white-space: normal\; word-spacing: 0px\;"><b>Weak or Strong\, Faltering or Growing\, Cold or Hot - whatever the state of the economy\, there are people whose businesses and careers are thriving. &nbsp\;How do they do it\, and what can you learn that will ensure that you are one of the top performers? &nbsp\;</b></span></span></span></span></span></div>\n		<div style="font-weight:normal">\n			&nbsp\;</div>\n		<div style="font-weight:normal">\n			<span style="font-size:12px\;"><span style="border-collapse: separate\; color: rgb(0\, 0\, 0)\; font-family: Arial\; font-style: normal\; font-variant: normal\; letter-spacing: normal\; line-height: normal\; text-indent: 0px\; text-transform: none\; white-space: normal\; word-spacing: 0px\;"><span style="border-collapse: separate\; color: rgb(0\, 0\, 0)\; font-family: Arial\; font-style: normal\; font-variant: normal\; letter-spacing: normal\; line-height: normal\; text-indent: 0px\; text-transform: none\; white-space: normal\; word-spacing: 0px\;"><span style="border-collapse: separate\; color: rgb(0\, 0\, 0)\; font-family: Arial\; font-style: normal\; font-variant: normal\; letter-spacing: normal\; line-height: normal\; text-indent: 0px\; text-transform: none\; white-space: normal\; word-spacing: 0px\;"><span style="border-collapse: separate\; color: rgb(0\, 0\, 0)\; font-family: Arial\; font-style: normal\; font-variant: normal\; letter-spacing: normal\; line-height: normal\; text-indent: 0px\; text-transform: none\; white-space: normal\; word-spacing: 0px\;"><b>Seven Ways to Thrive in Any Economy</b></span></span></span></span></span></div>\n		<div style="font-weight:normal">\n			<span style="font-size:12px\;"><span style="border-collapse: separate\; color: rgb(0\, 0\, 0)\; font-family: Arial\; font-style: normal\; font-variant: normal\; letter-spacing: normal\; line-height: normal\; text-indent: 0px\; text-transform: none\; white-space: normal\; word-spacing: 0px\;"><span style="border-collapse: separate\; color: rgb(0\, 0\, 0)\; font-family: Arial\; font-style: normal\; font-variant: normal\; letter-spacing: normal\; line-height: normal\; text-indent: 0px\; text-transform: none\; white-space: normal\; word-spacing: 0px\;"><span style="border-collapse: separate\; color: rgb(0\, 0\, 0)\; font-family: Arial\; font-style: normal\; font-variant: normal\; letter-spacing: normal\; line-height: normal\; text-indent: 0px\; text-transform: none\; white-space: normal\; word-spacing: 0px\;"><span style="border-collapse: separate\; color: rgb(0\, 0\, 0)\; font-family: Arial\; font-style: normal\; font-variant: normal\; letter-spacing: normal\; line-height: normal\; text-indent: 0px\; text-transform: none\; white-space: normal\; word-spacing: 0px\;">* &nbsp\;Clarity - Know exactly what you want in 4 key areas</span></span></span></span></span></div>\n		<div style="font-weight:normal">\n			<span style="font-size:12px\;"><span style="border-collapse: separate\; color: rgb(0\, 0\, 0)\; font-family: Arial\; font-style: normal\; font-variant: normal\; letter-spacing: normal\; line-height: normal\; text-indent: 0px\; text-transform: none\; white-space: normal\; word-spacing: 0px\;"><span style="border-collapse: separate\; color: rgb(0\, 0\, 0)\; font-family: Arial\; font-style: normal\; font-variant: normal\; letter-spacing: normal\; line-height: normal\; text-indent: 0px\; text-transform: none\; white-space: normal\; word-spacing: 0px\;"><span style="border-collapse: separate\; color: rgb(0\, 0\, 0)\; font-family: Arial\; font-style: normal\; font-variant: normal\; letter-spacing: normal\; line-height: normal\; text-indent: 0px\; text-transform: none\; white-space: normal\; word-spacing: 0px\;"><span style="border-collapse: separate\; color: rgb(0\, 0\, 0)\; font-family: Arial\; font-style: normal\; font-variant: normal\; letter-spacing: normal\; line-height: normal\; text-indent: 0px\; text-transform: none\; white-space: normal\; word-spacing: 0px\;">* &nbsp\;Competence - Traits of the top 10%</span></span></span></span></span></div>\n		<div style="font-weight:normal">\n			<span style="font-size:12px\;"><span style="border-collapse: separate\; color: rgb(0\, 0\, 0)\; font-family: Arial\; font-style: normal\; font-variant: normal\; letter-spacing: normal\; line-height: normal\; text-indent: 0px\; text-transform: none\; white-space: normal\; word-spacing: 0px\;"><span style="border-collapse: separate\; color: rgb(0\, 0\, 0)\; font-family: Arial\; font-style: normal\; font-variant: normal\; letter-spacing: normal\; line-height: normal\; text-indent: 0px\; text-transform: none\; white-space: normal\; word-spacing: 0px\;"><span style="border-collapse: separate\; color: rgb(0\, 0\, 0)\; font-family: Arial\; font-style: normal\; font-variant: normal\; letter-spacing: normal\; line-height: normal\; text-indent: 0px\; text-transform: none\; white-space: normal\; word-spacing: 0px\;"><span style="border-collapse: separate\; color: rgb(0\, 0\, 0)\; font-family: Arial\; font-style: normal\; font-variant: normal\; letter-spacing: normal\; line-height: normal\; text-indent: 0px\; text-transform: none\; white-space: normal\; word-spacing: 0px\;">* &nbsp\;Continuous Learning - Own it!</span></span></span></span></span></div>\n		<div style="font-weight:normal">\n			<span style="font-size:12px\;"><span style="border-collapse: separate\; color: rgb(0\, 0\, 0)\; font-family: Arial\; font-style: normal\; font-variant: normal\; letter-spacing: normal\; line-height: normal\; text-indent: 0px\; text-transform: none\; white-space: normal\; word-spacing: 0px\;"><span style="border-collapse: separate\; color: rgb(0\, 0\, 0)\; font-family: Arial\; font-style: normal\; font-variant: normal\; letter-spacing: normal\; line-height: normal\; text-indent: 0px\; text-transform: none\; white-space: normal\; word-spacing: 0px\;"><span style="border-collapse: separate\; color: rgb(0\, 0\, 0)\; font-family: Arial\; font-style: normal\; font-variant: normal\; letter-spacing: normal\; line-height: normal\; text-indent: 0px\; text-transform: none\; white-space: normal\; word-spacing: 0px\;"><span style="border-collapse: separate\; color: rgb(0\, 0\, 0)\; font-family: Arial\; font-style: normal\; font-variant: normal\; letter-spacing: normal\; line-height: normal\; text-indent: 0px\; text-transform: none\; white-space: normal\; word-spacing: 0px\;">* &nbsp\;Constraint Analysis - What is in the way? &nbsp\;Only 20% is external - 80% is within you.</span></span></span></span></span></div>\n		<div style="font-weight:normal">\n			<span style="font-size:12px\;"><span style="border-collapse: separate\; color: rgb(0\, 0\, 0)\; font-family: Arial\; font-style: normal\; font-variant: normal\; letter-spacing: normal\; line-height: normal\; text-indent: 0px\; text-transform: none\; white-space: normal\; word-spacing: 0px\;"><span style="border-collapse: separate\; color: rgb(0\, 0\, 0)\; font-family: Arial\; font-style: normal\; font-variant: normal\; letter-spacing: normal\; line-height: normal\; text-indent: 0px\; text-transform: none\; white-space: normal\; word-spacing: 0px\;"><span style="border-collapse: separate\; color: rgb(0\, 0\, 0)\; font-family: Arial\; font-style: normal\; font-variant: normal\; letter-spacing: normal\; line-height: normal\; text-indent: 0px\; text-transform: none\; white-space: normal\; word-spacing: 0px\;"><span style="border-collapse: separate\; color: rgb(0\, 0\, 0)\; font-family: Arial\; font-style: normal\; font-variant: normal\; letter-spacing: normal\; line-height: normal\; text-indent: 0px\; text-transform: none\; white-space: normal\; word-spacing: 0px\;">* &nbsp\;Creativity - Mindstorming</span></span></span></span></span></div>\n		<div style="font-weight:normal">\n			<span style="font-size:12px\;"><span style="border-collapse: separate\; color: rgb(0\, 0\, 0)\; font-family: Arial\; font-style: normal\; font-variant: normal\; letter-spacing: normal\; line-height: normal\; text-indent: 0px\; text-transform: none\; white-space: normal\; word-spacing: 0px\;"><span style="border-collapse: separate\; color: rgb(0\, 0\, 0)\; font-family: Arial\; font-style: normal\; font-variant: normal\; letter-spacing: normal\; line-height: normal\; text-indent: 0px\; text-transform: none\; white-space: normal\; word-spacing: 0px\;"><span style="border-collapse: separate\; color: rgb(0\, 0\, 0)\; font-family: Arial\; font-style: normal\; font-variant: normal\; letter-spacing: normal\; line-height: normal\; text-indent: 0px\; text-transform: none\; white-space: normal\; word-spacing: 0px\;"><span style="border-collapse: separate\; color: rgb(0\, 0\, 0)\; font-family: Arial\; font-style: normal\; font-variant: normal\; letter-spacing: normal\; line-height: normal\; text-indent: 0px\; text-transform: none\; white-space: normal\; word-spacing: 0px\;">* &nbsp\;Concentration - Intentional Tunnel Vision</span></span></span></span></span></div>\n		<div style="font-weight:normal">\n			<span style="font-size:12px\;"><span style="border-collapse: separate\; color: rgb(0\, 0\, 0)\; font-family: Arial\; font-style: normal\; font-variant: normal\; letter-spacing: normal\; line-height: normal\; text-indent: 0px\; text-transform: none\; white-space: normal\; word-spacing: 0px\;"><span style="border-collapse: separate\; color: rgb(0\, 0\, 0)\; font-family: Arial\; font-style: normal\; font-variant: normal\; letter-spacing: normal\; line-height: normal\; text-indent: 0px\; text-transform: none\; white-space: normal\; word-spacing: 0px\;"><span style="border-collapse: separate\; color: rgb(0\, 0\, 0)\; font-family: Arial\; font-style: normal\; font-variant: normal\; letter-spacing: normal\; line-height: normal\; text-indent: 0px\; text-transform: none\; white-space: normal\; word-spacing: 0px\;"><span style="border-collapse: separate\; color: rgb(0\, 0\, 0)\; font-family: Arial\; font-style: normal\; font-variant: normal\; letter-spacing: normal\; line-height: normal\; text-indent: 0px\; text-transform: none\; white-space: normal\; word-spacing: 0px\;">* &nbsp\;Character - The right things</span></span></span></span></span></div>\n	</div>\n</div>\n
LOCATION:Courtyard by Marriott - Rancho Bernardo11611 Bernardo Plaza CourtSan Diego CA 92128
UID:e.784.2492
SEQUENCE:3
DTSTAMP:20260423T000807Z
URL:https://chamber.sdbusinesschamber.com/events/details/business-for-breakfast-11-30-2011-2492
END:VEVENT

END:VCALENDAR
