BEGIN:VCALENDAR
VERSION:2.0
PRODID:-//ChamberMaster//Event Calendar 2.0//EN
METHOD:PUBLISH
X-PUBLISHED-TTL:P3D
REFRESH-INTERVAL:P3D
CALSCALE:GREGORIAN
BEGIN:VEVENT
DTSTART:20120718T143000Z
DTEND:20120718T160000Z
X-MICROSOFT-CDO-ALLDAYEVENT:FALSE
SUMMARY:Business for Breakfast
DESCRIPTION:Is Franchising Right For You? \n\n	\n		Does your company have the potential to Franchise?\n	\n		Understanding the Successful Franchise Model\n	\n		Have you thought about Purchasing a Franchise?\n	\n		Understand the Franchise Baskin Robbins Model\n	\n		What?s in Franchising for you?\n\nLimited to the first 20 people\, coffee and light breakfast provided\n\n\n\n\n\n\n\n\n\n\n	About the Speaker
X-ALT-DESC;FMTTYPE=text/html:<p _mce_style="margin-top: 0px\; margin-bottom: 0px\; text-align: right\;" style="text-align: center\; margin-top: 0px\; margin-bottom: 0px">\n	<span _mce_style="font-size: 12pt\;" style="font-size: 12pt"><strong><span>Is Franchising Right For You? </span></strong></span></p>\n<ul _mce_style="text-align: right\;" align="right" style="text-align: right">\n	<li style="text-align: center">\n		<span _mce_style="font-size: 12pt\;" style="font-size: 12pt">Does your company have the potential to Franchise?</span></li>\n	<li style="text-align: center">\n		<span _mce_style="font-size: 12pt\;" style="font-size: 12pt">Understanding the Successful Franchise Model</span></li>\n	<li style="text-align: center">\n		<span _mce_style="font-size: 12pt\;" style="font-size: 12pt">Have you thought about Purchasing a Franchise?</span></li>\n	<li style="text-align: center">\n		<span _mce_style="font-size: 12pt\;" style="font-size: 12pt">Understand the Franchise Baskin Robbins Model</span></li>\n	<li style="text-align: center">\n		<span _mce_style="font-size: 12pt\;" style="font-size: 12pt">What?s in Franchising for you?</span></li>\n</ul>\nLimited to the first 20 people\, coffee and light breakfast provided<br />\n<br />\n<br />\n<br />\n<br />\n<h2>\n	About the Speaker</h2>\n
LOCATION:SDNCC 10875 Rancho Bernardo Road Suite 104 San Diego CA 92127
UID:e.784.2568
SEQUENCE:3
DTSTAMP:20260422T123714Z
URL:https://chamber.sdbusinesschamber.com/events/details/business-for-breakfast-07-18-2012-2568
END:VEVENT

END:VCALENDAR
