BEGIN:VCALENDAR
VERSION:2.0
PRODID:-//ChamberMaster//Event Calendar 2.0//EN
METHOD:PUBLISH
X-PUBLISHED-TTL:P3D
REFRESH-INTERVAL:P3D
CALSCALE:GREGORIAN
BEGIN:VEVENT
DTSTART:20120516T143000Z
DTEND:20120516T160000Z
X-MICROSOFT-CDO-ALLDAYEVENT:FALSE
SUMMARY:Business For Breakfast
DESCRIPTION:Are you on track to a Successful 2012!\n\n	\n\n	Successful people leave tracks.  By looking at the steps they took\, you can learn how they got there\, how to transform your career and your life\, and how to make 2012 your best year ever.  In this GOALS! workshop\, you'll learn the seven "tracks" that the top 10% in every field have in common\, and practical ways to apply those lessons.  Blow away your goals and make 2012 the best year ever - with seven practical action steps that you can take now!  Come join John Shaw\, Certified Business coach\, for this inspiring and practical workshop\, and get where you want to go in 2012 and beyond.\n\n	 \n\n	GOALS!!! 7 SECRETS TO A SUCCESSFUL 2012\n\n	*  The Winning Edge Concept\n\n	*  Focus:  Key Results\n\n	*  The Critical Success Factors\n\n	*  Look Ahead\, Act Today\n\n	*  Idealization:  Your Magic Wand\n\n	*  Your Areas Of Excellence\n\n	*  Completion:  Getting to "I DID IT!"
X-ALT-DESC;FMTTYPE=text/html:<div style="text-align: center\;">\n	<span style="font-size: 16px\;"><span style="font-family: tahoma\;">&nbsp\;</span></span></div>\n<div style="text-align: center\;">\n	<span style="font-size: 16px\;"><span style="font-family: tahoma\;"><span style="text-indent: 0px\; letter-spacing: normal\; font-variant: normal\; font-style: normal\; font-weight: normal\; line-height: normal\; border-collapse: separate\; text-transform: none\; white-space: normal\; word-spacing: 0px\;"><span style="text-indent: 0px\; letter-spacing: normal\; font-variant: normal\; font-style: normal\; font-weight: normal\; line-height: normal\; border-collapse: separate\; text-transform: none\; white-space: normal\; word-spacing: 0px\;"><span style="text-indent: 0px\; letter-spacing: normal\; font-variant: normal\; font-style: normal\; font-weight: normal\; line-height: normal\; border-collapse: separate\; text-transform: none\; white-space: normal\; word-spacing: 0px\;"><span style="text-indent: 0px\; letter-spacing: normal\; font-variant: normal\; font-style: normal\; font-weight: normal\; line-height: normal\; border-collapse: separate\; text-transform: none\; white-space: normal\; word-spacing: 0px\;"><span style="text-indent: 0px\; letter-spacing: normal\; font-variant: normal\; font-style: normal\; font-weight: normal\; line-height: normal\; border-collapse: separate\; text-transform: none\; white-space: normal\; word-spacing: 0px\;"><span style="text-indent: 0px\; letter-spacing: normal\; font-variant: normal\; font-style: normal\; font-weight: normal\; line-height: normal\; border-collapse: separate\; text-transform: none\; white-space: normal\; word-spacing: 0px\;"><strong>Are you on track to a Successful <em><u>2012</u></em>!</strong><br />\n	<br />\n	<span style="font-size: 14px\;">Successful people leave tracks. &nbsp\;By looking at the steps they took\, you can learn how they got there\, how to transform your career and your life\, and how to make 2012 your best year ever. &nbsp\;In this GOALS! workshop\, you&#39\;ll learn the seven &quot\;tracks&quot\; that the top 10% in every field have in common\, and practical ways to&nbsp\;apply those lessons. &nbsp\;Blow away your goals and make 2012 the best year ever - with seven practical action steps&nbsp\;that you can take now! &nbsp\;Come join John Shaw\, Certified Business coach\, for this inspiring and practical workshop\, and get where you want to go in 2012 and beyond.</span></span></span></span></span></span></span></span></span></div>\n<div style="text-align: center\;">\n	&nbsp\;</div>\n<div style="text-align: center\;">\n	<span style="font-size: 14px\;"><span style="font-family: tahoma\;"><span style="text-indent: 0px\; letter-spacing: normal\; font-variant: normal\; font-style: normal\; font-weight: normal\; line-height: normal\; border-collapse: separate\; text-transform: none\; white-space: normal\; word-spacing: 0px\;"><span style="text-indent: 0px\; letter-spacing: normal\; font-variant: normal\; font-style: normal\; font-weight: normal\; line-height: normal\; border-collapse: separate\; text-transform: none\; white-space: normal\; word-spacing: 0px\;"><span style="text-indent: 0px\; letter-spacing: normal\; font-variant: normal\; font-style: normal\; font-weight: normal\; line-height: normal\; border-collapse: separate\; text-transform: none\; white-space: normal\; word-spacing: 0px\;"><span style="text-indent: 0px\; letter-spacing: normal\; font-variant: normal\; font-style: normal\; font-weight: normal\; line-height: normal\; border-collapse: separate\; text-transform: none\; white-space: normal\; word-spacing: 0px\;"><span style="text-indent: 0px\; letter-spacing: normal\; font-variant: normal\; font-style: normal\; font-weight: normal\; line-height: normal\; border-collapse: separate\; text-transform: none\; white-space: normal\; word-spacing: 0px\;"><span style="text-indent: 0px\; letter-spacing: normal\; font-variant: normal\; font-style: normal\; font-weight: normal\; line-height: normal\; border-collapse: separate\; text-transform: none\; white-space: normal\; word-spacing: 0px\;">GOALS!!! 7 SECRETS TO A SUCCESSFUL 2012</span></span></span></span></span></span></span></span></div>\n<div style="text-align: center\;">\n	<span style="font-size: 14px\;"><span style="font-family: tahoma\;"><span style="text-indent: 0px\; letter-spacing: normal\; font-variant: normal\; font-style: normal\; font-weight: normal\; line-height: normal\; border-collapse: separate\; text-transform: none\; white-space: normal\; word-spacing: 0px\;"><span style="text-indent: 0px\; letter-spacing: normal\; font-variant: normal\; font-style: normal\; font-weight: normal\; line-height: normal\; border-collapse: separate\; text-transform: none\; white-space: normal\; word-spacing: 0px\;"><span style="text-indent: 0px\; letter-spacing: normal\; font-variant: normal\; font-style: normal\; font-weight: normal\; line-height: normal\; border-collapse: separate\; text-transform: none\; white-space: normal\; word-spacing: 0px\;"><span style="text-indent: 0px\; letter-spacing: normal\; font-variant: normal\; font-style: normal\; font-weight: normal\; line-height: normal\; border-collapse: separate\; text-transform: none\; white-space: normal\; word-spacing: 0px\;"><span style="text-indent: 0px\; letter-spacing: normal\; font-variant: normal\; font-style: normal\; font-weight: normal\; line-height: normal\; border-collapse: separate\; text-transform: none\; white-space: normal\; word-spacing: 0px\;"><span style="text-indent: 0px\; letter-spacing: normal\; font-variant: normal\; font-style: normal\; font-weight: normal\; line-height: normal\; border-collapse: separate\; text-transform: none\; white-space: normal\; word-spacing: 0px\;">* &nbsp\;The Winning Edge Concept</span></span></span></span></span></span></span></span></div>\n<div style="text-align: center\;">\n	<span style="font-size: 14px\;"><span style="font-family: tahoma\;"><span style="text-indent: 0px\; letter-spacing: normal\; font-variant: normal\; font-style: normal\; font-weight: normal\; line-height: normal\; border-collapse: separate\; text-transform: none\; white-space: normal\; word-spacing: 0px\;"><span style="text-indent: 0px\; letter-spacing: normal\; font-variant: normal\; font-style: normal\; font-weight: normal\; line-height: normal\; border-collapse: separate\; text-transform: none\; white-space: normal\; word-spacing: 0px\;"><span style="text-indent: 0px\; letter-spacing: normal\; font-variant: normal\; font-style: normal\; font-weight: normal\; line-height: normal\; border-collapse: separate\; text-transform: none\; white-space: normal\; word-spacing: 0px\;"><span style="text-indent: 0px\; letter-spacing: normal\; font-variant: normal\; font-style: normal\; font-weight: normal\; line-height: normal\; border-collapse: separate\; text-transform: none\; white-space: normal\; word-spacing: 0px\;"><span style="text-indent: 0px\; letter-spacing: normal\; font-variant: normal\; font-style: normal\; font-weight: normal\; line-height: normal\; border-collapse: separate\; text-transform: none\; white-space: normal\; word-spacing: 0px\;"><span style="text-indent: 0px\; letter-spacing: normal\; font-variant: normal\; font-style: normal\; font-weight: normal\; line-height: normal\; border-collapse: separate\; text-transform: none\; white-space: normal\; word-spacing: 0px\;">* &nbsp\;Focus: &nbsp\;Key Results</span></span></span></span></span></span></span></span></div>\n<div style="text-align: center\;">\n	<span style="font-size: 14px\;"><span style="font-family: tahoma\;"><span style="text-indent: 0px\; letter-spacing: normal\; font-variant: normal\; font-style: normal\; font-weight: normal\; line-height: normal\; border-collapse: separate\; text-transform: none\; white-space: normal\; word-spacing: 0px\;"><span style="text-indent: 0px\; letter-spacing: normal\; font-variant: normal\; font-style: normal\; font-weight: normal\; line-height: normal\; border-collapse: separate\; text-transform: none\; white-space: normal\; word-spacing: 0px\;"><span style="text-indent: 0px\; letter-spacing: normal\; font-variant: normal\; font-style: normal\; font-weight: normal\; line-height: normal\; border-collapse: separate\; text-transform: none\; white-space: normal\; word-spacing: 0px\;"><span style="text-indent: 0px\; letter-spacing: normal\; font-variant: normal\; font-style: normal\; font-weight: normal\; line-height: normal\; border-collapse: separate\; text-transform: none\; white-space: normal\; word-spacing: 0px\;"><span style="text-indent: 0px\; letter-spacing: normal\; font-variant: normal\; font-style: normal\; font-weight: normal\; line-height: normal\; border-collapse: separate\; text-transform: none\; white-space: normal\; word-spacing: 0px\;"><span style="text-indent: 0px\; letter-spacing: normal\; font-variant: normal\; font-style: normal\; font-weight: normal\; line-height: normal\; border-collapse: separate\; text-transform: none\; white-space: normal\; word-spacing: 0px\;">* &nbsp\;The Critical Success Factors</span></span></span></span></span></span></span></span></div>\n<div style="text-align: center\;">\n	<span style="font-size: 14px\;"><span style="font-family: tahoma\;"><span style="text-indent: 0px\; letter-spacing: normal\; font-variant: normal\; font-style: normal\; font-weight: normal\; line-height: normal\; border-collapse: separate\; text-transform: none\; white-space: normal\; word-spacing: 0px\;"><span style="text-indent: 0px\; letter-spacing: normal\; font-variant: normal\; font-style: normal\; font-weight: normal\; line-height: normal\; border-collapse: separate\; text-transform: none\; white-space: normal\; word-spacing: 0px\;"><span style="text-indent: 0px\; letter-spacing: normal\; font-variant: normal\; font-style: normal\; font-weight: normal\; line-height: normal\; border-collapse: separate\; text-transform: none\; white-space: normal\; word-spacing: 0px\;"><span style="text-indent: 0px\; letter-spacing: normal\; font-variant: normal\; font-style: normal\; font-weight: normal\; line-height: normal\; border-collapse: separate\; text-transform: none\; white-space: normal\; word-spacing: 0px\;"><span style="text-indent: 0px\; letter-spacing: normal\; font-variant: normal\; font-style: normal\; font-weight: normal\; line-height: normal\; border-collapse: separate\; text-transform: none\; white-space: normal\; word-spacing: 0px\;"><span style="text-indent: 0px\; letter-spacing: normal\; font-variant: normal\; font-style: normal\; font-weight: normal\; line-height: normal\; border-collapse: separate\; text-transform: none\; white-space: normal\; word-spacing: 0px\;">* &nbsp\;Look Ahead\, Act Today</span></span></span></span></span></span></span></span></div>\n<div style="text-align: center\;">\n	<span style="font-size: 14px\;"><span style="font-family: tahoma\;"><span style="text-indent: 0px\; letter-spacing: normal\; font-variant: normal\; font-style: normal\; font-weight: normal\; line-height: normal\; border-collapse: separate\; text-transform: none\; white-space: normal\; word-spacing: 0px\;"><span style="text-indent: 0px\; letter-spacing: normal\; font-variant: normal\; font-style: normal\; font-weight: normal\; line-height: normal\; border-collapse: separate\; text-transform: none\; white-space: normal\; word-spacing: 0px\;"><span style="text-indent: 0px\; letter-spacing: normal\; font-variant: normal\; font-style: normal\; font-weight: normal\; line-height: normal\; border-collapse: separate\; text-transform: none\; white-space: normal\; word-spacing: 0px\;"><span style="text-indent: 0px\; letter-spacing: normal\; font-variant: normal\; font-style: normal\; font-weight: normal\; line-height: normal\; border-collapse: separate\; text-transform: none\; white-space: normal\; word-spacing: 0px\;"><span style="text-indent: 0px\; letter-spacing: normal\; font-variant: normal\; font-style: normal\; font-weight: normal\; line-height: normal\; border-collapse: separate\; text-transform: none\; white-space: normal\; word-spacing: 0px\;"><span style="text-indent: 0px\; letter-spacing: normal\; font-variant: normal\; font-style: normal\; font-weight: normal\; line-height: normal\; border-collapse: separate\; text-transform: none\; white-space: normal\; word-spacing: 0px\;">* &nbsp\;Idealization: &nbsp\;Your Magic Wand</span></span></span></span></span></span></span></span></div>\n<div style="text-align: center\;">\n	<span style="font-size: 14px\;"><span style="font-family: tahoma\;"><span style="text-indent: 0px\; letter-spacing: normal\; font-variant: normal\; font-style: normal\; font-weight: normal\; line-height: normal\; border-collapse: separate\; text-transform: none\; white-space: normal\; word-spacing: 0px\;"><span style="text-indent: 0px\; letter-spacing: normal\; font-variant: normal\; font-style: normal\; font-weight: normal\; line-height: normal\; border-collapse: separate\; text-transform: none\; white-space: normal\; word-spacing: 0px\;"><span style="text-indent: 0px\; letter-spacing: normal\; font-variant: normal\; font-style: normal\; font-weight: normal\; line-height: normal\; border-collapse: separate\; text-transform: none\; white-space: normal\; word-spacing: 0px\;"><span style="text-indent: 0px\; letter-spacing: normal\; font-variant: normal\; font-style: normal\; font-weight: normal\; line-height: normal\; border-collapse: separate\; text-transform: none\; white-space: normal\; word-spacing: 0px\;"><span style="text-indent: 0px\; letter-spacing: normal\; font-variant: normal\; font-style: normal\; font-weight: normal\; line-height: normal\; border-collapse: separate\; text-transform: none\; white-space: normal\; word-spacing: 0px\;"><span style="text-indent: 0px\; letter-spacing: normal\; font-variant: normal\; font-style: normal\; font-weight: normal\; line-height: normal\; border-collapse: separate\; text-transform: none\; white-space: normal\; word-spacing: 0px\;">* &nbsp\;Your Areas Of Excellence</span></span></span></span></span></span></span></span></div>\n<div style="text-align: center\;">\n	<span style="font-size: 14px\;"><span style="font-family: tahoma\;"><span style="text-indent: 0px\; letter-spacing: normal\; font-variant: normal\; font-style: normal\; font-weight: normal\; line-height: normal\; border-collapse: separate\; text-transform: none\; white-space: normal\; word-spacing: 0px\;"><span style="text-indent: 0px\; letter-spacing: normal\; font-variant: normal\; font-style: normal\; font-weight: normal\; line-height: normal\; border-collapse: separate\; text-transform: none\; white-space: normal\; word-spacing: 0px\;"><span style="text-indent: 0px\; letter-spacing: normal\; font-variant: normal\; font-style: normal\; font-weight: normal\; line-height: normal\; border-collapse: separate\; text-transform: none\; white-space: normal\; word-spacing: 0px\;"><span style="text-indent: 0px\; letter-spacing: normal\; font-variant: normal\; font-style: normal\; font-weight: normal\; line-height: normal\; border-collapse: separate\; text-transform: none\; white-space: normal\; word-spacing: 0px\;"><span style="text-indent: 0px\; letter-spacing: normal\; font-variant: normal\; font-style: normal\; font-weight: normal\; line-height: normal\; border-collapse: separate\; text-transform: none\; white-space: normal\; word-spacing: 0px\;"><span style="text-indent: 0px\; letter-spacing: normal\; font-variant: normal\; font-style: normal\; font-weight: normal\; line-height: normal\; border-collapse: separate\; text-transform: none\; white-space: normal\; word-spacing: 0px\;">* &nbsp\;Completion: &nbsp\;Getting to &quot\;I DID IT!&quot\;</span></span></span></span></span></span></span></span></div>\n
LOCATION:SDNCC 10875 Rancho Bernardo Rd\, Ste. 104 San Diego\, CA 92127
UID:e.784.2637
SEQUENCE:3
DTSTAMP:20260422T160027Z
URL:https://chamber.sdbusinesschamber.com/events/details/business-for-breakfast-05-16-2012-2637
END:VEVENT

END:VCALENDAR
