BEGIN:VCALENDAR
VERSION:2.0
PRODID:-//ChamberMaster//Event Calendar 2.0//EN
METHOD:PUBLISH
X-PUBLISHED-TTL:P3D
REFRESH-INTERVAL:P3D
CALSCALE:GREGORIAN
BEGIN:VEVENT
DTSTART:20120229T153000Z
DTEND:20120229T170000Z
X-MICROSOFT-CDO-ALLDAYEVENT:FALSE
SUMMARY:Business for Breakfast
DESCRIPTION:What is the IT "Cloud"\, and how does it affect me as a businessperson?\n\n \n\n \n\nThere is all this talk about the "Cloud" nowadays.  There is also a lot of questions:\n\n         Is the Cloud safe? \n\n         Does it save money?  How much?  Why?\n\n         What is the Cloud really mean anyway? \n\n         Is a cloud based system right for me?\n\n \n\nSee this presentation by Michael Anderson where he gives real life examples and explains in easy to use language how this relates to businesses of all sizes.\n\n \n\nMr. Anderson is CEO and Founder of Radiant Technologies\, Inc.\, Vertical Leap\, Inc.\, and Jet Reports Asia PTE LTD\, and a frequent presenter for SAP and Microsoft.
X-ALT-DESC;FMTTYPE=text/html:<strong><span style="color:rgb(31\,73\,125)\;">What is the IT &ldquo\;Cloud&rdquo\;\, and how does it affect me as a businessperson?</span></strong><br />\n&nbsp\;<br />\n&nbsp\;<br />\n<span style="color:rgb(31\,73\,125)\;">There is all this talk about the &ldquo\;Cloud&rdquo\; nowadays.&nbsp\; There is also a lot of questions:</span><br />\n<span style="color:rgb(31\,73\,125)\;"><span style="font-family:symbol\;">&middot\;&nbsp\;&nbsp\;&nbsp\;&nbsp\;&nbsp\;&nbsp\;&nbsp\;&nbsp\;</span></span><span style="color:rgb(31\,73\,125)\;">Is the Cloud safe?&nbsp\;</span><br />\n<span style="color:rgb(31\,73\,125)\;"><span style="font-family:symbol\;">&middot\;&nbsp\;&nbsp\;&nbsp\;&nbsp\;&nbsp\;&nbsp\;&nbsp\;&nbsp\;</span></span><span style="color:rgb(31\,73\,125)\;">Does it save money?&nbsp\; How much?&nbsp\; Why?</span><br />\n<span style="color:rgb(31\,73\,125)\;"><span style="font-family:symbol\;">&middot\;&nbsp\;&nbsp\;&nbsp\;&nbsp\;&nbsp\;&nbsp\;&nbsp\;&nbsp\;</span></span><span style="color:rgb(31\,73\,125)\;">What is the Cloud really mean anyway?&nbsp\;</span><br />\n<span style="color:rgb(31\,73\,125)\;"><span style="font-family:symbol\;">&middot\;&nbsp\;&nbsp\;&nbsp\;&nbsp\;&nbsp\;&nbsp\;&nbsp\;&nbsp\;</span></span><span style="color:rgb(31\,73\,125)\;">Is a cloud based system right for me?</span><br />\n&nbsp\;<br />\n<span style="color:rgb(31\,73\,125)\;">See this presentation by Michael Anderson where he gives real life examples and explains in easy to use language how this relates to businesses of all sizes.</span><br />\n&nbsp\;<br />\n<span style="color:rgb(31\,73\,125)\;">Mr. Anderson is CEO and Founder of Radiant Technologies\, Inc.\, Vertical Leap\, Inc.\, and Jet Reports Asia PTE LTD\, and a frequent presenter for SAP and Microsoft.</span>
LOCATION:SDNCC 10875 Rancho Bernardo Road Suite 104 San Diego CA 92127
UID:e.784.2619
SEQUENCE:3
DTSTAMP:20260422T201726Z
URL:https://chamber.sdbusinesschamber.com/events/details/business-for-breakfast-02-29-2012-2619
END:VEVENT

END:VCALENDAR
