BEGIN:VCALENDAR
VERSION:2.0
PRODID:-//ChamberMaster//Event Calendar 2.0//EN
METHOD:PUBLISH
X-PUBLISHED-TTL:P3D
REFRESH-INTERVAL:P3D
CALSCALE:GREGORIAN
BEGIN:VEVENT
DTSTART:20111115T223000Z
DTEND:20111116T000000Z
X-MICROSOFT-CDO-ALLDAYEVENT:FALSE
SUMMARY:Building Better Business Forum
DESCRIPTION:County Supervisor Pam Slater-Price\, County of San Diego Health & Human Service Agency and the San Diego North Chamber of Commerce invite you to a:\n\n\n\nBuilding Better Business Forum\n\n"Workplace Wellness - Achieving a Healthy Bottom Line"\n\n\n\nThe program is designed to:\n\n	\n		Optimize productivity through healthier employees\n	\n		Provide fee to low cost tools and resources needed to implement worksite wellness activities\n	\n		Explain how to easily establish a culture of good health in the workplace
X-ALT-DESC;FMTTYPE=text/html:County Supervisor Pam Slater-Price\, County of San Diego Health &amp\; Human Service Agency and the San Diego North Chamber of Commerce invite you to a:<br />\n<br />\nBuilding Better Business Forum<br />\n&quot\;Workplace Wellness - Achieving a Healthy Bottom Line&quot\;<br />\n<br />\nThe program is designed to:\n<ul>\n	<li>\n		<span style="font-size:12px\;">Optimize productivity through healthier employees</span></li>\n	<li>\n		<span style="font-size:12px\;">Provide fee to low cost tools and resources needed to implement worksite wellness activities</span></li>\n	<li>\n		<span style="font-size:12px\;">Explain how to easily establish a culture of good health in the workplace</span></li>\n</ul>\n
LOCATION:Encinitas Community Center Banquet Room B 1140 Oakcrest Park Dr Encintas CA 92024
UID:e.784.2493
SEQUENCE:3
DTSTAMP:20260423T000835Z
URL:https://chamber.sdbusinesschamber.com/events/details/building-better-business-forum-11-15-2011-2493
END:VEVENT

END:VCALENDAR
