BEGIN:VCALENDAR
VERSION:2.0
PRODID:-//ChamberMaster//Event Calendar 2.0//EN
METHOD:PUBLISH
X-PUBLISHED-TTL:P3D
REFRESH-INTERVAL:P3D
CALSCALE:GREGORIAN
BEGIN:VEVENT
DTSTART:20090824T070000Z
DTEND:20090902T070000Z
X-MICROSOFT-CDO-ALLDAYEVENT:FALSE
SUMMARY:Budgeting & Financial Planning Workshop
DESCRIPTION:Learn to do your own budget and financial plan with guidance from a 12 yr exper. Certified FinancialPlanner. This 2 hour class teaches you to do your own budget\, get out of debt and start a financialplan based on your personal situation. Maximum 10 people per class. Bring 3 months bank statements\,acalculator and be prepared to work. $90 Reservations Required Call (888) 873-9003. Pick from 3 different dates: Mon\, 8/24 6-8pm\, Wed 8/26 6-8pm or Wed 9/2 6-8pm\, Kearney Mesa library located at 9005 Aero Dr.
X-ALT-DESC;FMTTYPE=text/html:Learn to do your own budget and financial plan with guidance from a 12 yr exper. Certified FinancialPlanner. This 2 hour class teaches you to do your own budget\, get out of debt and start a financialplan based on your personal situation. Maximum 10 people per class. Bring 3 months bank statements\,acalculator and be prepared to work. $90 Reservations Required Call (888) 873-9003. Pick from 3 different dates: Mon\, 8/24 6-8pm\, Wed 8/26 6-8pm or Wed 9/2 6-8pm\, Kearney Mesa library located at 9005 Aero Dr.
LOCATION:Serra Mesa - Kearney Mesa Library
UID:e.784.-167
SEQUENCE:3
DTSTAMP:20260424T143110Z
URL:https://chamber.sdbusinesschamber.com/events/details/budgeting-financial-planning-workshop-08-24-2009
END:VEVENT

END:VCALENDAR
