BEGIN:VCALENDAR
VERSION:2.0
PRODID:-//ChamberMaster//Event Calendar 2.0//EN
METHOD:PUBLISH
X-PUBLISHED-TTL:P3D
REFRESH-INTERVAL:P3D
CALSCALE:GREGORIAN
BEGIN:VEVENT
DTSTART:20131124T210000Z
DTEND:20131125T000000Z
X-MICROSOFT-CDO-ALLDAYEVENT:FALSE
SUMMARY:Bridge to the Future's Event: "Picturing Excellence"
DESCRIPTION:Fun filled Family Event to benefit local underserved teen athletes!  A catered afternoon at the Bernardo Winery with pleanty of food\, an exciting drawing\, games for kids and professional photographers to take your family Holiday photos.  With many local business professionals in attendance\, this will be a good networking opportunity and a way to get your business noticed as one that cares about the comunity!
X-ALT-DESC;FMTTYPE=text/html:Fun filled Family Event to benefit local underserved teen athletes!&nbsp\; A catered afternoon at the Bernardo Winery with pleanty of food\, an exciting drawing\, games for kids and professional photographers to take your family Holiday photos.&nbsp\; With many local business professionals in attendance\, this will be a good networking opportunity and a way to get your business noticed as one that cares about the comunity! 
LOCATION:Bernardo Winery: 13330 Paseo Del Verano Norte San Diego\, CA 92128-1804
UID:e.784.2983
SEQUENCE:3
DTSTAMP:20260421T113517Z
URL:https://chamber.sdbusinesschamber.com/events/details/bridge-to-the-future-s-event-picturing-excellence-11-24-2013-2983
END:VEVENT

END:VCALENDAR
