BEGIN:VCALENDAR
VERSION:2.0
PRODID:-//ChamberMaster//Event Calendar 2.0//EN
METHOD:PUBLISH
X-PUBLISHED-TTL:P3D
REFRESH-INTERVAL:P3D
CALSCALE:GREGORIAN
BEGIN:VEVENT
DTSTART:20130912T170000Z
DTEND:20130912T190000Z
X-MICROSOFT-CDO-ALLDAYEVENT:FALSE
SUMMARY:BOE's FREE Basic Sales & Use Tax Class
DESCRIPTION:Vice Chair Michelle Steel Sponsors California State Board of Equalization's FREE Basic Sales and Use Tax Class for Small Business Owners Date: September 12\, 2013 Time: 10 a.m. - 12 p.m. in English Location: California State BOE\, San Diego District Office\, 15015 Avenue of Science\, Ste. 200 (Training Room)\, SD\, CA 92128. Additional Dates: Thursday\, October 17\, 2013 from 10 a.m. - 12 p.m. in English and Thursday\, December 12\, 2013 from 10 a.m. - 12 p.m. in English You may RSVP by going to http://www.boe.ca.gov/classes\, then select the Basic Sales and Use Tax Course in San Diego. Receive free\, valuable information on how to: - Obtain a sellers permit with eReg and learn about the benefits of eReg - Sales and use tax and how to pay use tax due - Resale certificates - Common exemptions and deductions - California District Taxes - Recordkeeping - How to eFile your tax returns\, and so much more! About the California State Board of Equalization (BOE): The Board of Equalization collects California state sales and use tax\, as well as fuel\, alcohol\, and tobacco taxes and fees that provide revenue for state government and essential funding for counties\, cities\, and special districts. You must obtain a seller?s permit if you are engaged in business in California and intend to sell or lease tangible personal property that would ordinarily be subject to sales tax if sold at retail. Seller?s permits are now available online through the eReg program available at: http://www.boe.ca.gov/elecsrv/ereg/index.html.
X-ALT-DESC;FMTTYPE=text/html:Vice Chair Michelle Steel Sponsors California State Board of Equalization&#39\;s FREE Basic Sales and Use Tax Class for Small Business Owners Date: September 12\, 2013 Time: 10 a.m. - 12 p.m. in English Location: California State BOE\, San Diego District Office\, 15015 Avenue of Science\, Ste. 200 (Training Room)\, SD\, CA 92128. Additional Dates: Thursday\, October 17\, 2013 from 10 a.m. - 12 p.m. in English and Thursday\, December 12\, 2013 from 10 a.m. - 12 p.m. in English You may RSVP by going to http://www.boe.ca.gov/classes\, then select the Basic Sales and Use Tax Course in San Diego. Receive free\, valuable information on how to: - Obtain a sellers permit with eReg and learn about the benefits of eReg - Sales and use tax and how to pay use tax due - Resale certificates - Common exemptions and deductions - California District Taxes - Recordkeeping - How to eFile your tax returns\, and so much more! About the California State Board of Equalization (BOE): The Board of Equalization collects California state sales and use tax\, as well as fuel\, alcohol\, and tobacco taxes and fees that provide revenue for state government and essential funding for counties\, cities\, and special districts. You must obtain a seller?s permit if you are engaged in business in California and intend to sell or lease tangible personal property that would ordinarily be subject to sales tax if sold at retail. Seller?s permits are now available online through the eReg program available at: http://www.boe.ca.gov/elecsrv/ereg/index.html. 
LOCATION:California State Board of Equalization\, San Diego District Office\, 15015 Avenue of Science\, Ste. 200\, San Diego\, CA 92128
UID:e.784.2944
SEQUENCE:3
DTSTAMP:20260421T155618Z
URL:https://chamber.sdbusinesschamber.com/events/details/boe-s-free-basic-sales-use-tax-class-09-12-2013-2944
END:VEVENT

END:VCALENDAR
