BEGIN:VCALENDAR
VERSION:2.0
PRODID:-//ChamberMaster//Event Calendar 2.0//EN
METHOD:PUBLISH
X-PUBLISHED-TTL:P3D
REFRESH-INTERVAL:P3D
CALSCALE:GREGORIAN
BEGIN:VEVENT
DTSTART:20130511T170000Z
DTEND:20130513T000000Z
X-MICROSOFT-CDO-ALLDAYEVENT:FALSE
SUMMARY:Bernardo Winery's 36th Annual Spring Arts and Crafts Fair
DESCRIPTION:Over 125 of the best Artisans and Crafters on the beautiful grounds of the Bernardo Winery\, Mother's Day Weekend!!  May 11th and 12th\, 10-5pm.  For 36 years the 120 year old winery has been hosting this all locally handcrafted Arts and Crafts Fair. Wine tasting and reserve barrel tasting\, food court\, live music\, all winery village shops open. Free admission\, parking and shuttle. For more information call 858.487.1866 or visit www.bernardowinery.com
X-ALT-DESC;FMTTYPE=text/html:Over 125 of the best Artisans and Crafters on the beautiful grounds of the Bernardo Winery\, Mother&#39\;s Day Weekend!!&nbsp\; May 11th and 12th\, 10-5pm.&nbsp\; For 36 years the 120 year old winery has been hosting this all locally handcrafted Arts and Crafts Fair. Wine tasting and reserve barrel tasting\, food court\, live music\, all winery village shops open. Free admission\, parking and shuttle. For more information call 858.487.1866 or visit <a href="http://www.bernardowinery.com">www.bernardowinery.com</a>
LOCATION:Bernardo Winery 13330 Paseo del Verano \, San Diego 92128
UID:e.784.2879
SEQUENCE:3
DTSTAMP:20260421T210757Z
URL:https://chamber.sdbusinesschamber.com/events/details/bernardo-winery-s-36th-annual-spring-arts-and-crafts-fair-05-11-2013-2879
END:VEVENT

END:VCALENDAR
