BEGIN:VCALENDAR
VERSION:2.0
PRODID:-//ChamberMaster//Event Calendar 2.0//EN
METHOD:PUBLISH
X-PUBLISHED-TTL:P3D
REFRESH-INTERVAL:P3D
CALSCALE:GREGORIAN
BEGIN:VEVENT
DTSTART:20200821T153000Z
DTEND:20200821T224500Z
X-MICROSOFT-CDO-ALLDAYEVENT:FALSE
SUMMARY:BBB Industrious Women Virtual Summit
DESCRIPTION:Don't miss our 3rd Industrious Women Summit. During this all day virtual conference will feature more than 25 women business owned leaders\, expert panels and workshops where business women  can discuss and share leadership skills\, best practices\, leadership and diversity\, financial wellness\, knowledge about running a business in industries that are traditionally male-dominated.
X-ALT-DESC;FMTTYPE=text/html:Don&#39\;t miss our 3rd Industrious Women Summit. During this all day virtual conference will feature more than 25 women business owned leaders\, expert panels and workshops where business women&nbsp\; can discuss and share leadership skills\, best practices\, leadership and diversity\, financial wellness\, knowledge about running a business in industries that are traditionally male-dominated.&nbsp\;
LOCATION:Virtual
UID:e.784.25584
SEQUENCE:3
DTSTAMP:20260425T222728Z
URL:https://chamber.sdbusinesschamber.com/events/details/bbb-industrious-women-virtual-summit-25584
END:VEVENT

END:VCALENDAR
