BEGIN:VCALENDAR
VERSION:2.0
PRODID:-//ChamberMaster//Event Calendar 2.0//EN
METHOD:PUBLISH
X-PUBLISHED-TTL:P3D
REFRESH-INTERVAL:P3D
CALSCALE:GREGORIAN
BEGIN:VEVENT
DTSTART:20131027T030000Z
DTEND:20131027T050000Z
X-MICROSOFT-CDO-ALLDAYEVENT:FALSE
SUMMARY:Barbara Eden and Hal Linden in A.R. Gurney?s Love Letters
DESCRIPTION:Normal\n  0\n  \n  \n  false\n  false\n  false\n  \n   \n   \n   \n   \n   \n  \n  MicrosoftInternetExplorer4\n \n\n\n	Television stars Barbara Eden ("I Dream of Genie") and Hal Linden ("Barney Miller") star in a modern American Classic: Boy meets girl. Girl writes to boy. Girl and boy correspond throughout their lives.  \n\n	 \n\n	Love Letters\, A.R. Gurney's beloved play about two people who grow up and in love with each other's writing\, is as much a celebration of the power of the written word as it is to love itself.\n\n	Andy and Melissa first "meet" when Melissa writes to invite Andy to her birthday party. Their correspondence continues\, growing longer and more familiar as they seek friendship in their respective boarding schools. They sympathize (and amiably bicker) throughout marriages\, children\, divorces\, love affairs and careers that take them down different paths.  \n\n	Poetic\, elegant\, and profoundly touching\, Love Letters shows that\, despite how things seem\, what divides us is rarely as powerful as what connects us\, and love comes when you least expect it.  \n\n \n \n\n\n /* Style Definitions */\n table.MsoNormalTable\n	{mso-style-name:"Table Normal"\;\n	mso-tstyle-rowband-size:0\;\n	mso-tstyle-colband-size:0\;\n	mso-style-noshow:yes\;\n	mso-style-parent:""\;\n	mso-padding-alt:0in 5.4pt 0in 5.4pt\;\n	mso-para-margin:0in\;\n	mso-para-margin-bottom:.0001pt\;\n	mso-pagination:widow-orphan\;\n	font-size:10.0pt\;\n	font-family:"Times New Roman"\;\n	mso-ansi-language:#0400\;\n	mso-fareast-language:#0400\;\n	mso-bidi-language:#0400\;}
X-ALT-DESC;FMTTYPE=text/html:<!--[if gte mso 9]><xml>\n <w:WordDocument>\n  <w:View>Normal</w:View>\n  <w:Zoom>0</w:Zoom>\n  <w:PunctuationKerning/>\n  <w:ValidateAgainstSchemas/>\n  <w:SaveIfXMLInvalid>false</w:SaveIfXMLInvalid>\n  <w:IgnoreMixedContent>false</w:IgnoreMixedContent>\n  <w:AlwaysShowPlaceholderText>false</w:AlwaysShowPlaceholderText>\n  <w:Compatibility>\n   <w:BreakWrappedTables/>\n   <w:SnapToGridInCell/>\n   <w:WrapTextWithPunct/>\n   <w:UseAsianBreakRules/>\n   <w:DontGrowAutofit/>\n  </w:Compatibility>\n  <w:BrowserLevel>MicrosoftInternetExplorer4</w:BrowserLevel>\n </w:WordDocument>\n</xml><![endif]-->\n<p class="MsoNormal">\n	<span style="font-size:11.0pt\;font-family:Calibri">Television stars <b style="mso-bidi-font-weight:normal">Barbara Eden </b>(&ldquo\;I Dream of Genie&rdquo\;) and <b style="mso-bidi-font-weight:normal">Hal Linden </b>(&ldquo\;Barney Miller&rdquo\;) star in a modern American Classic: Boy meets girl. Girl writes to boy. Girl and boy correspond throughout their lives.<span style="mso-spacerun:yes">&nbsp\; </span></span></p>\n<p class="MsoNormal">\n	<span style="font-size:11.0pt\;font-family:Calibri">&nbsp\;</span></p>\n<p class="MsoNormal">\n	<b style="mso-bidi-font-weight:normal"><i style="mso-bidi-font-style:\nnormal"><span style="font-size:11.0pt\;font-family:Calibri">Love Letters</span></i></b><span style="font-size:11.0pt\;font-family:Calibri">\, A.R. Gurney&rsquo\;s beloved play about two people who grow up and in love with each other&#39\;s writing\, is as much a celebration of the power of the written word as it is to love itself.</span></p>\n<p class="MsoNormal" style="mso-margin-top-alt:auto">\n	<span style="font-size:11.0pt\;\nfont-family:Calibri">Andy and Melissa first &ldquo\;meet&rdquo\; when Melissa writes to invite Andy to her birthday party. Their correspondence continues\, growing longer and more familiar as they seek friendship in their respective boarding schools. They sympathize (and amiably bicker) throughout marriages\, children\, divorces\, love affairs and careers that take them down different paths.<span style="mso-spacerun:yes">&nbsp\; </span></span></p>\n<p class="Default">\n	<span style="font-size:11.0pt\;font-family:Calibri\;mso-bidi-font-family:\n&quot\;Times New Roman&quot\;\;color:windowtext">Poetic\, elegant\, and profoundly touching\, <i style="mso-bidi-font-style:normal">Love Letters</i> shows that\, despite how things seem\, what divides us is rarely as powerful as what connects us\, and love comes when you least expect it.<span style="mso-spacerun:yes">&nbsp\; </span></span></p>\n<!--[if gte mso 9]><xml>\n <w:LatentStyles DefLockedState="false" LatentStyleCount="156">\n </w:LatentStyles>\n</xml><![endif]--><!--[if gte mso 10]>\n<style>\n /* Style Definitions */\n table.MsoNormalTable\n	{mso-style-name:"Table Normal"\;\n	mso-tstyle-rowband-size:0\;\n	mso-tstyle-colband-size:0\;\n	mso-style-noshow:yes\;\n	mso-style-parent:""\;\n	mso-padding-alt:0in 5.4pt 0in 5.4pt\;\n	mso-para-margin:0in\;\n	mso-para-margin-bottom:.0001pt\;\n	mso-pagination:widow-orphan\;\n	font-size:10.0pt\;\n	font-family:"Times New Roman"\;\n	mso-ansi-language:#0400\;\n	mso-fareast-language:#0400\;\n	mso-bidi-language:#0400\;}\n</style>\n<![endif]-->
LOCATION:Poway Center for the Performing Arts 15498 Espola Road Poway\, CA 92064
UID:e.784.2913
SEQUENCE:3
DTSTAMP:20260421T130505Z
URL:https://chamber.sdbusinesschamber.com/events/details/barbara-eden-and-hal-linden-in-a-r-gurney-s-love-letters-10-26-2013-2913
END:VEVENT

END:VCALENDAR
