BEGIN:VCALENDAR
VERSION:2.0
PRODID:-//ChamberMaster//Event Calendar 2.0//EN
METHOD:PUBLISH
X-PUBLISHED-TTL:P3D
REFRESH-INTERVAL:P3D
CALSCALE:GREGORIAN
BEGIN:VEVENT
DTSTART:20130824T170000Z
DTEND:20130824T180000Z
X-MICROSOFT-CDO-ALLDAYEVENT:FALSE
SUMMARY:Auto Buying Seminar
DESCRIPTION:Learn the basics of Car Buying from SDCCU experts!  Topics will include:\n\n*How to buy a car\n\n*What to look for (new vs used)\n\n*Leasing vs. buying\n\n*SDCCU Free Auto Buying Service\n\n\n\nTwo - $50.00 Gift Cards will be given away to attendees.\n\n\n\nLimited Space available.  Please RSVP.
X-ALT-DESC;FMTTYPE=text/html:Learn the basics of Car Buying from SDCCU experts!&nbsp\; Topics will include:<br />\n*How to buy a car<br />\n*What to look for (new vs used)<br />\n*Leasing vs. buying<br />\n*SDCCU Free Auto Buying Service<br />\n<br />\nTwo - $50.00 Gift Cards will be given away to attendees.<br />\n<br />\nLimited Space available.&nbsp\; Please RSVP.
LOCATION:
UID:e.784.2923
SEQUENCE:3
DTSTAMP:20260421T155530Z
URL:https://chamber.sdbusinesschamber.com/events/details/auto-buying-seminar-08-24-2013-2923
END:VEVENT

END:VCALENDAR
