BEGIN:VCALENDAR
VERSION:2.0
PRODID:-//ChamberMaster//Event Calendar 2.0//EN
METHOD:PUBLISH
X-PUBLISHED-TTL:P3D
REFRESH-INTERVAL:P3D
CALSCALE:GREGORIAN
BEGIN:VEVENT
DTSTART;VALUE=DATE:20200828
DTEND;VALUE=DATE:20200829
TRANSP:TRANSPARENT
X-MICROSOFT-CDO-ALLDAYEVENT:TRUE
SUMMARY:August 2020 Coin Collectors Auction
DESCRIPTION:https://northcountyauctions.proxibid.com/asp/Catalog.asp?aid=183064\n\n\n\nAugust 2020 Coin Collectors Auction\n\n\n\nLiberty Quarters\, Dimes\, Gold\, Half Dollars\, Morgans\, Special Mint Sets\, Proof Sets\, Silver Certificates\, Foreign Coins. To get on our auction list\, Text NCAuctions to 77222\n\n \n\n	\n		\n			Lot Title\n			Lot Description\n		\n		\n			KMT streamline SLV E30\n			Model E 30 V2 part number 72162721  44 inches tall\, 36 inch depth\, 62 inches wide \n		\n		\n			Fiber Laser Marking Machine YM-01 laser printing control system\n			Lemon laser cutter Looks New in box YM-01 laser printing control system in operation manual plus LDJ-F fiber laser marking machine    crate is 27in wide 27in tall 48in long \n		\n		\n			New In box Thyssepkrupp Stainless steel control box\n			48in Tall 32in Wide 14in deep  Model Number??? \n		\n		\n			checkweigher\n			35 inch length\, 31 inch width\, 52 inch height \n		\n		\n			Mini conveyor belt\n			33 inches tall 30 inches wide 20 inch depth \n		\n		\n			Industrial Checkweigher\n			Model W300=550-550-800 rated 220v 1.5amps 1000 gram range 52 inch height \n		\n		\n			AFG Process Systems Industrial Labeling Machine\, BLK WTR\n			Model PSW-100\, year 2018\, rated 220v 60Hz 1P 1.5Kw. 84 inches wide 64 inches tall\, 38 inch depth \n		\n		\n			AFG Process Systems Industrial Labeling Machine\, Chick-Fil-A Lemon Juice\n			Model PSW-100\, year 2018\, rated 220v 60Hz 1P 1.5Kw. 113 inches wide\, 70 inches depth\, 61 inches tall \n		\n		\n			AFG Process Systems Industrial Labeling Machine\n			Model PSW-100\, year 2018\, rated 220v 60Hz 1P 1.5Kw. 85 inches wide\, 63 inches tall\, 37 inch depth \n		\n		\n			AFG Process Systems Industrial Labeling Machine\n			Model ETLM-120 rated AC 220v 60Hz 3000w 17 amps. 114 inches wide\, 60 inches tall\, 68 inch depth \n		\n		\n			AFG Packing System Sealing Machine\n			Model Number??? Rating???  65 inch depth\, 58 inch height\, 71 inch width \n		\n		\n			AFG Process Systems Industrial Labeling Machine\n			Model PSW-100\, year 2017 - 2018\, rated 220v 60Hz 1P 1.5Kw. 80 inch width 43 inch depth 64 inch height \n		\n		\n			AFG Filling Systems Industrial Beer Barrel Washing Mashing\n			Model #???? Rating???  60 inch height\, 60 inch width\, 45 inch depth \n		\n		\n			AFG Packaging System Sealing Machine\n			Model HFWSS-21 rated AC 208v 60Hz 2400w 10amps. 48 inch width\, 56 inch height\, 62 inch depth \n		\n		\n			Rotary Pillow Packing Machine\n			Model 250 D/B 51 inch height\, 42 inch width\, 32 inch depth includes service manual \n		\n		\n			Ice Water Inlet / Liquid Outlet Machine\n			Model ##?? Rating???  53 inches wide\, 45 inches tall\, 20 inch depth \n		\n		\n			Rotary Pillow Packing Machine\n			Model 250 D/B 51 inch height\, 42 inch width\, 32 inch depth includes service manual \n		\n		\n			Rotary Pillow Packing Machine\n			Model 250 D/B 51 inch height\, 42 inch width\, 32 inch depth includes service manual \n		\n		\n			Conveyor Belt Frame
X-ALT-DESC;FMTTYPE=text/html:<a href="https://northcountyauctions.proxibid.com/asp/Catalog.asp?aid=183064">https://northcountyauctions.proxibid.com/asp/Catalog.asp?aid=183064</a><br />\n<br />\nAugust 2020 Coin Collectors Auction<br />\n<br />\n<span style="background-color:rgb(251\, 251\, 251)\; color:rgb(0\, 0\, 0)\; font-family:arial\,helvetica\,sans-serif">Liberty Quarters\, Dimes\, Gold\, Half Dollars\, Morgans\, Special Mint Sets\, Proof Sets\, Silver Certificates\, Foreign Coins. To get on our auction list\, Text NCAuctions to 77222</span><br />\n&nbsp\;\n<table border="0" cellpadding="0" cellspacing="0" style="border-collapse:collapse\; width:1030px">\n	<tbody>\n		<tr>\n			<td style="height:19px\; width:447px">Lot Title</td>\n			<td style="width:583px">Lot Description</td>\n		</tr>\n		<tr>\n			<td style="height:19px">KMT streamline SLV E30</td>\n			<td>Model E 30 V2 part number 72162721&nbsp\; 44 inches tall\, 36 inch depth\, 62 inches wide&nbsp\;</td>\n		</tr>\n		<tr>\n			<td style="height:19px">Fiber Laser Marking Machine YM-01 laser printing control system</td>\n			<td>Lemon laser cutter Looks New in box YM-01 laser printing control system in operation manual plus LDJ-F fiber laser marking machine&nbsp\;&nbsp\;&nbsp\; crate is 27in wide 27in tall 48in long&nbsp\;</td>\n		</tr>\n		<tr>\n			<td style="height:19px">New In box Thyssepkrupp Stainless steel control box</td>\n			<td>48in Tall 32in Wide 14in deep&nbsp\; Model Number???&nbsp\;</td>\n		</tr>\n		<tr>\n			<td style="height:19px">checkweigher</td>\n			<td>35 inch length\, 31 inch width\, 52 inch height&nbsp\;</td>\n		</tr>\n		<tr>\n			<td style="height:19px">Mini conveyor belt</td>\n			<td>33 inches tall 30 inches wide 20 inch depth&nbsp\;</td>\n		</tr>\n		<tr>\n			<td style="height:19px">Industrial Checkweigher</td>\n			<td>Model W300=550-550-800 rated 220v 1.5amps 1000 gram range 52 inch height&nbsp\;</td>\n		</tr>\n		<tr>\n			<td style="height:19px">AFG Process Systems Industrial Labeling Machine\, BLK WTR</td>\n			<td>Model PSW-100\, year 2018\, rated 220v 60Hz 1P 1.5Kw. 84 inches wide 64 inches tall\, 38 inch depth&nbsp\;</td>\n		</tr>\n		<tr>\n			<td style="height:19px">AFG Process Systems Industrial Labeling Machine\, Chick-Fil-A Lemon Juice</td>\n			<td>Model PSW-100\, year 2018\, rated 220v 60Hz 1P 1.5Kw. 113 inches wide\, 70 inches depth\, 61 inches tall&nbsp\;</td>\n		</tr>\n		<tr>\n			<td style="height:19px">AFG Process Systems Industrial Labeling Machine</td>\n			<td>Model PSW-100\, year 2018\, rated 220v 60Hz 1P 1.5Kw. 85 inches wide\, 63 inches tall\, 37 inch depth&nbsp\;</td>\n		</tr>\n		<tr>\n			<td style="height:19px">AFG Process Systems Industrial Labeling Machine</td>\n			<td>Model ETLM-120 rated AC 220v 60Hz 3000w 17 amps. 114 inches wide\, 60 inches tall\, 68 inch depth&nbsp\;</td>\n		</tr>\n		<tr>\n			<td style="height:19px">AFG Packing System Sealing Machine</td>\n			<td>Model Number??? Rating???&nbsp\; 65 inch depth\, 58 inch height\, 71 inch width&nbsp\;</td>\n		</tr>\n		<tr>\n			<td style="height:19px">AFG Process Systems Industrial Labeling Machine</td>\n			<td>Model PSW-100\, year 2017 - 2018\, rated 220v 60Hz 1P 1.5Kw. 80 inch width 43 inch depth 64 inch height&nbsp\;</td>\n		</tr>\n		<tr>\n			<td style="height:19px">AFG Filling Systems Industrial Beer Barrel Washing Mashing</td>\n			<td>Model #???? Rating???&nbsp\; 60 inch height\, 60 inch width\, 45 inch depth&nbsp\;</td>\n		</tr>\n		<tr>\n			<td style="height:19px">AFG Packaging System Sealing Machine</td>\n			<td>Model HFWSS-21 rated AC 208v 60Hz 2400w 10amps. 48 inch width\, 56 inch height\, 62 inch depth&nbsp\;</td>\n		</tr>\n		<tr>\n			<td style="height:19px">Rotary Pillow Packing Machine</td>\n			<td>Model 250 D/B 51 inch height\, 42 inch width\, 32 inch depth includes service manual&nbsp\;</td>\n		</tr>\n		<tr>\n			<td style="height:19px">Ice Water Inlet / Liquid Outlet Machine</td>\n			<td>Model ##?? Rating???&nbsp\; 53 inches wide\, 45 inches tall\, 20 inch depth&nbsp\;</td>\n		</tr>\n		<tr>\n			<td style="height:19px">Rotary Pillow Packing Machine</td>\n			<td>Model 250 D/B 51 inch height\, 42 inch width\, 32 inch depth includes service manual&nbsp\;</td>\n		</tr>\n		<tr>\n			<td style="height:19px">Rotary Pillow Packing Machine</td>\n			<td>Model 250 D/B 51 inch height\, 42 inch width\, 32 inch depth includes service manual&nbsp\;</td>\n		</tr>\n		<tr>\n			<td style="height:19px">Conveyor Belt Frame</td>\n			<td>&nbsp\;</td>\n		</tr>\n	</tbody>\n</table>\n
LOCATION:1996 Don Lee Place Escondido CA 92029
UID:e.784.26014
SEQUENCE:3
DTSTAMP:20260425T223252Z
URL:https://chamber.sdbusinesschamber.com/events/details/august-2020-coin-collectors-auction-08-28-2020-26014
END:VEVENT

END:VCALENDAR
