BEGIN:VCALENDAR
VERSION:2.0
PRODID:-//ChamberMaster//Event Calendar 2.0//EN
METHOD:PUBLISH
X-PUBLISHED-TTL:P3D
REFRESH-INTERVAL:P3D
CALSCALE:GREGORIAN
BEGIN:VEVENT
DTSTART:20200911T170000Z
DTEND:20200911T180000Z
X-MICROSOFT-CDO-ALLDAYEVENT:FALSE
SUMMARY:Are You Taking Advantage of Tax Incentives? | Live! Webinar
DESCRIPTION:Are You Taking Advantage of Tax Incentives?\n\nJoin Business Group Resources for a Live! Webinar\n\nDID YOU KNOW? Your business could be entitled to large cash incentives & credit programs offered through Federal\, State & local levels? Are you one of the nine out of ten businesses missing out on unclaimed money for your business?\n\nMeet founders of Business Group Resources (BGR)\, Mr. Ken DuBose & Mr. Ron Budd. Learn about government-mandated tax incentives that can make a difference in the building\, developing\, and scaling your business model.\n\nLearn about U.S. Tax Incentives to SAVE MONEY\; Claim your rebates & credits to recover overpayment to the IRS.\n\nEmpower yourself to file your RECOVERY CLAIM to BUILD\, DEVELOP\, and SCALE your business with monies you're entitled to.\n\nAre you taking advantage of tax incentives? If not\, this seminar is for you.\n\n \n\nREGISTER TODAY!\n\nRegister at https://tax-incentives.eventbrite.com\n\nRecovering Over $2\,000\,000 Monthly For Our Clients!\n\nBGR in partnership with Business Incentive Solutions\, the tax and incentive program specialists\, has helped more than 5\,000 businesses claim these lucrative tax credits & incentives.\n\nWhy haven't you claimed yours?\n\nDO YOU QUALIFY? There are many different industries that may qualify for one of the different incentives & tax credits\, including \n\nMANUFACTURING | MEDICAL & DENTAL | SOFTWARE & TECHNOLOGY\n\nCONSTRUCTION SEMICONDUCTOR | SOFTWARE | TELECOMMUNICATIONS\n\nPAPER & FOREST PRODUCTS | CHEMICALS & PLASTICS | CONSUMER PRODUCTS\n\nAUTOMOTIVE | OIL & GAS | FOOD PROCESSING | ENTERTAINMENT & MEDIA\n\nWhy haven't you claimed yours? \n\nLET'S TALK!\n\nKnowledge is power. Has your company left money on the table? Let's set up a 10-minute call for a free analysis to see if you qualify.
X-ALT-DESC;FMTTYPE=text/html:<p><strong>Are You Taking Advantage of Tax Incentives?</strong></p>\n\n<p>Join Business Group Resources for a Live! Webinar</p>\n\n<p><strong>DID YOU KNOW?</strong> Your business could be entitled to large cash incentives &amp\; credit programs offered through Federal\, State &amp\; local levels? Are you one of the nine out of ten businesses missing out on unclaimed money for your business?</p>\n\n<p>Meet founders of Business Group Resources (BGR)\, Mr. Ken DuBose &amp\; Mr. Ron Budd. Learn about government-mandated tax incentives that can make a difference in the building\, developing\, and scaling your business model.</p>\n\n<p>Learn about U.S. Tax Incentives to SAVE MONEY\; Claim your rebates &amp\; credits to recover overpayment to the IRS.</p>\n\n<p>Empower yourself to file your RECOVERY CLAIM to BUILD\, DEVELOP\, and SCALE your business with monies you&#39\;re entitled to.</p>\n\n<p>Are you taking advantage of tax incentives? If not\, this seminar is for you.</p>\n\n<p>&nbsp\;</p>\n\n<p><strong>REGISTER TODAY!</strong></p>\n\n<p>Register at <a href="https://tax-incentives.eventbrite.com">https://tax-incentives.eventbrite.com</a></p>\n\n<p>Recovering Over $2\,000\,000 Monthly For Our Clients!</p>\n\n<p>BGR in partnership with Business Incentive Solutions\, the tax and incentive program specialists\, has helped more than 5\,000 businesses claim these lucrative tax credits &amp\; incentives.</p>\n\n<p>Why haven&rsquo\;t you claimed yours?</p>\n\n<p><strong>DO YOU QUALIFY?</strong> There are many different industries that may qualify for one of the different incentives &amp\; tax credits\, including&hellip\;</p>\n\n<p>MANUFACTURING | MEDICAL &amp\; DENTAL | SOFTWARE &amp\; TECHNOLOGY</p>\n\n<p>CONSTRUCTION SEMICONDUCTOR | SOFTWARE | TELECOMMUNICATIONS</p>\n\n<p>PAPER &amp\; FOREST PRODUCTS | CHEMICALS &amp\; PLASTICS | CONSUMER PRODUCTS</p>\n\n<p>AUTOMOTIVE | OIL &amp\; GAS | FOOD PROCESSING | ENTERTAINMENT &amp\; MEDIA</p>\n\n<p>Why haven&rsquo\;t you claimed yours?&nbsp\;</p>\n\n<p><strong>LET&rsquo\;S TALK!</strong></p>\n\n<p>Knowledge is power. Has your company left money on the table? Let&rsquo\;s set up a 10-minute call for a free analysis to see if you qualify.</p>\n
LOCATION:https://tax-incentives.eventbrite.com
UID:e.784.26226
SEQUENCE:3
DTSTAMP:20260425T210512Z
URL:https://chamber.sdbusinesschamber.com/events/details/are-you-taking-advantage-of-tax-incentives-live-webinar-26226
END:VEVENT

END:VCALENDAR
