BEGIN:VCALENDAR
VERSION:2.0
PRODID:-//ChamberMaster//Event Calendar 2.0//EN
METHOD:PUBLISH
X-PUBLISHED-TTL:P3D
REFRESH-INTERVAL:P3D
CALSCALE:GREGORIAN
BEGIN:VEVENT
DTSTART:20130419T183000Z
DTEND:20130419T200000Z
X-MICROSOFT-CDO-ALLDAYEVENT:FALSE
SUMMARY:Are you doing THIS to Void Your Exempt Classifications?
DESCRIPTION:Overall\, in today's business climate\, employees are more savvy and know when they should be paid overtime. Employers can avoid labor based complaints.  Although top management can always find the least expensive way to pay employees\, often these non-compliant choices can lead to a poor business culture and poor work environment. In the end\, FLSA compliance is the "right thing to do".\n\n \n\nIn this roundtable we will discuss the top ways in which employers both knowingly and unknowingly jeopardize their employees non-exempt status.  We will also address liability as well as potential remedies.
X-ALT-DESC;FMTTYPE=text/html:<span style="font-family: ttff4d59b8t00\;"><span style="font-size: 12pt\;">Overall\, in today&rsquo\;s business climate\, employees are more savvy and know when they should be paid overtime. Employers can avoid labor based complaints.&nbsp\; Although top management can always find the least expensive way to pay employees\, often these non-compliant choices can lead to a poor business culture and poor work environment. In the end\,&nbsp\;FLSA&nbsp\;compliance is the &ldquo\;right thing to do&rdquo\;.</span></span><br />\n&nbsp\;<br />\n<span style="font-family: ttff4d59b8t00\;"><span style="font-size: 12pt\;">In this roundtable we will discuss the top ways in which employers both knowingly and unknowingly jeopardize their employees non-exempt status.&nbsp\; We will also address liability as well as potential remedies.</span></span>
LOCATION:SDEA 4180 Ruffin Road\, Sutie 295 San Diego\, CA 92123
UID:e.784.2867
SEQUENCE:3
DTSTAMP:20260421T224643Z
URL:https://chamber.sdbusinesschamber.com/events/details/are-you-doing-this-to-void-your-exempt-classifications-04-19-2013-2867
END:VEVENT

END:VCALENDAR
