BEGIN:VCALENDAR
VERSION:2.0
PRODID:-//ChamberMaster//Event Calendar 2.0//EN
METHOD:PUBLISH
X-PUBLISHED-TTL:P3D
REFRESH-INTERVAL:P3D
CALSCALE:GREGORIAN
BEGIN:VEVENT
DTSTART:20130816T150000Z
DTEND:20130817T190000Z
X-MICROSOFT-CDO-ALLDAYEVENT:FALSE
SUMMARY:Annual Rummage Sale for Missions
DESCRIPTION:This annual event is held at PLC with the proceeds going to support missions efforts "Beyond Our Walls & Beyond Our Borders". These efforts range from supporting San Diego's homeless and working with college students both here and offshore to supporting the children's ward of a public hospital in Honduras with short-term mission trips three times each year. Many of our neighbors attend in preparation for the new school year. Items range from clothing and books to household items and considerable furniture.
X-ALT-DESC;FMTTYPE=text/html:This annual event is held at PLC with the proceeds going to support missions efforts &quot\;Beyond Our Walls &amp\; Beyond Our Borders&quot\;. These efforts range from supporting San Diego&#39\;s homeless and working with college students both here and offshore to supporting the children&#39\;s ward of a public hospital in Honduras with short-term mission trips three times each year. Many of our neighbors attend in preparation for the new school year. Items range from clothing and books to household items and considerable furniture.
LOCATION:Penasquitos Lutheran Church (PLC) 14484 Penasquitos Drive San Diego\, CA 92129 (Across from the Doubletree Hotel and Resort)
UID:e.784.2937
SEQUENCE:3
DTSTAMP:20260421T155650Z
URL:https://chamber.sdbusinesschamber.com/events/details/annual-rummage-sale-for-missions-08-16-2013-2937
END:VEVENT

END:VCALENDAR
