BEGIN:VCALENDAR
VERSION:2.0
PRODID:-//ChamberMaster//Event Calendar 2.0//EN
METHOD:PUBLISH
X-PUBLISHED-TTL:P3D
REFRESH-INTERVAL:P3D
CALSCALE:GREGORIAN
BEGIN:VEVENT
DTSTART:20090828T070000Z
DTEND:20090828T070000Z
X-MICROSOFT-CDO-ALLDAYEVENT:FALSE
SUMMARY:An Evening With Madeleine Pickens
DESCRIPTION:
X-ALT-DESC;FMTTYPE=text/html:
LOCATION:Mercedes-Benz of Escondido
UID:e.784.883
SEQUENCE:3
DTSTAMP:20260424T143724Z
URL:https://chamber.sdbusinesschamber.com/events/details/an-evening-with-madeleine-pickens-08-28-2009-883
END:VEVENT

END:VCALENDAR
