BEGIN:VCALENDAR
VERSION:2.0
PRODID:-//ChamberMaster//Event Calendar 2.0//EN
METHOD:PUBLISH
X-PUBLISHED-TTL:P3D
REFRESH-INTERVAL:P3D
CALSCALE:GREGORIAN
BEGIN:VEVENT
DTSTART:20121112T013000Z
DTEND:20121112T030000Z
X-MICROSOFT-CDO-ALLDAYEVENT:FALSE
SUMMARY:American Idyll: An Evening with Aaron Copland
DESCRIPTION:Experience song sensation with a joint concert between the San Diego Children's Choir\, Torrey Pines Christian Church Choir and members of the San Diego Symphony! This concert features Aaron Copland's masterpiece Appalachian Spring and popular Old American Songs. (Youth Choir)
X-ALT-DESC;FMTTYPE=text/html:Experience song sensation with a joint concert between the San Diego Children&#39\;s Choir\, Torrey Pines Christian Church Choir and members of the San Diego Symphony! This concert features Aaron Copland&#39\;s masterpiece Appalachian Spring and popular Old American Songs. (Youth Choir)
LOCATION:Torrey Pines Christian Church 8320 La Jolla Scenic Drive North San Diego\, California 92037
UID:e.784.2722
SEQUENCE:3
DTSTAMP:20260422T063205Z
URL:https://chamber.sdbusinesschamber.com/events/details/american-idyll-an-evening-with-aaron-copland-11-11-2012-2722
END:VEVENT

END:VCALENDAR
