BEGIN:VCALENDAR
VERSION:2.0
PRODID:-//ChamberMaster//Event Calendar 2.0//EN
METHOD:PUBLISH
X-PUBLISHED-TTL:P3D
REFRESH-INTERVAL:P3D
CALSCALE:GREGORIAN
BEGIN:VEVENT
DTSTART:20131206T013000Z
DTEND:20131206T030000Z
X-MICROSOFT-CDO-ALLDAYEVENT:FALSE
SUMMARY:After Hours RB Republican Women Federated
DESCRIPTION:Guest Speaker William J. King & Associates has served local businesses with their insurance and employee benefit needs since 1972. In addition to businesses\, Bill works with individuals and families to get the best polices available. With the implementation of Obamacare\, along with the most recent changes\, Bill will explain how to navigate today?s challenges as well as preparing us for what is just around the corner.  5:30-6 pm ?HAPPY HOUR SOCIAL? ?6:00 pm ?WELCOME & current legislative updates ?6:15 pm?GUEST SPEAKER: Bill King of William J. King Insurance Services.  ??
X-ALT-DESC;FMTTYPE=text/html:Guest Speaker William J. King &amp\; Associates has served local businesses with their insurance and employee benefit needs since 1972. In addition to businesses\, Bill works with individuals and families to get the best polices available. With the implementation of Obamacare\, along with the most recent changes\, Bill will explain how to navigate today?s challenges as well as preparing us for what is just around the corner.&nbsp\; 5:30-6 pm ?HAPPY HOUR SOCIAL? ?6:00 pm ?WELCOME &amp\; current legislative updates&nbsp\;?6:15 pm?GUEST SPEAKER: Bill King of William J. King Insurance Services.&nbsp\; ?? 
LOCATION:Courtyard By Marriott Rancho Bernardo 11611 Bernardo Plaza Court San Diego\, CA 92128
UID:e.784.2999
SEQUENCE:3
DTSTAMP:20260421T113624Z
URL:https://chamber.sdbusinesschamber.com/events/details/after-hours-rb-republican-women-federated-12-05-2013-2999
END:VEVENT

END:VCALENDAR
