BEGIN:VCALENDAR
VERSION:2.0
PRODID:-//ChamberMaster//Event Calendar 2.0//EN
METHOD:PUBLISH
X-PUBLISHED-TTL:P3D
REFRESH-INTERVAL:P3D
CALSCALE:GREGORIAN
BEGIN:VEVENT
DTSTART:20201210T190000Z
DTEND:20201210T200000Z
X-MICROSOFT-CDO-ALLDAYEVENT:FALSE
SUMMARY:9 Little Known Steps You Must Take To Protect Your Minor Children In Today's Crazy World!
DESCRIPTION:Don't miss out on our live webinar! You will discover:\n\n1. How to ensure your money that you have been saving for your kids never falls into the wrong hands and is available to care for your kids immediately if something happens to you\n\n2. How to make sure your kids will never be taken out of your home or raised by anyone you wouldn't want if something happens to you\n\n3. How to give your family the gift of knowing everything has been taken care of\n\n\n\nRegister here: \n\nhttps://us02web.zoom.us/webinar/register/WN_QZQBFOPlRNuk3uyAq2LLTw
X-ALT-DESC;FMTTYPE=text/html:<span style="background-color:rgb(255\, 255\, 255)\; color:rgb(5\, 5\, 5)\; font-family:system-ui\,-apple-system\,system-ui\,.sfnstext-regular\,sans-serif\; font-size:15px">Don&rsquo\;t miss out on our live webinar! You will discover:</span><br />\n<span style="background-color:rgb(255\, 255\, 255)\; color:rgb(5\, 5\, 5)\; font-family:system-ui\,-apple-system\,system-ui\,.sfnstext-regular\,sans-serif\; font-size:15px">1. How to ensure your money that you have been saving for your kids never falls into the wrong hands and is available to care for your kids immediately if something happens to you</span><br />\n<span style="background-color:rgb(255\, 255\, 255)\; color:rgb(5\, 5\, 5)\; font-family:system-ui\,-apple-system\,system-ui\,.sfnstext-regular\,sans-serif\; font-size:15px">2. How to make sure your kids will never be taken out of your home or raised by anyone you wouldn&rsquo\;t want if something happens to you</span><br />\n<span style="background-color:rgb(255\, 255\, 255)\; color:rgb(5\, 5\, 5)\; font-family:system-ui\,-apple-system\,system-ui\,.sfnstext-regular\,sans-serif\; font-size:15px">3. How to give your family the gift of knowing everything has been taken care of<br />\n<br />\n<strong>Register here:&nbsp\;</strong><br />\n<a href="https://us02web.zoom.us/webinar/register/WN_QZQBFOPlRNuk3uyAq2LLTw">https://us02web.zoom.us/webinar/register/WN_QZQBFOPlRNuk3uyAq2LLTw</a></span>
LOCATION:Zoom. Register here: https://us02web.zoom.us/webinar/register/WN_QZQBFOPlRNuk3uyAq2LLTw
UID:e.784.26533
SEQUENCE:3
DTSTAMP:20260425T170844Z
URL:https://chamber.sdbusinesschamber.com/events/details/9-little-known-steps-you-must-take-to-protect-your-minor-children-in-today-s-crazy-world-26533
END:VEVENT

END:VCALENDAR
