BEGIN:VCALENDAR
VERSION:2.0
PRODID:-//ChamberMaster//Event Calendar 2.0//EN
METHOD:PUBLISH
X-PUBLISHED-TTL:P3D
REFRESH-INTERVAL:P3D
CALSCALE:GREGORIAN
BEGIN:VEVENT
DTSTART:20120521T140000Z
DTEND:20120521T170000Z
X-MICROSOFT-CDO-ALLDAYEVENT:FALSE
SUMMARY:7th Annual Duncan L. Hunter Wounded Warrior Golf Tournament
DESCRIPTION:For the 7th straight year\, golfers are gathering to support the discretionary needs of the wounded military personnel at the Naval Medical Center. Armed Services YMCA\, a 501(c)(3) not-for-profit is the host sponsor. Cottonwood Golf Club is generously donating their course\, personnel and equipment absolutely free of charge so that every dollar will go to the support of our wounded\, ill and injured service members.
X-ALT-DESC;FMTTYPE=text/html:<div class="url">\n	&nbsp\;</div>\n<div class="paragraph">\n	For the 7th straight year\, golfers are gathering to support the discretionary needs of the wounded military personnel at the Naval Medical Center. Armed Services YMCA\, a 501(c)(3) not-for-profit is the host sponsor. Cottonwood Golf Club is generously donating their course\, personnel and equipment absolutely free of charge so that every dollar will go to the support of our wounded\, ill and injured service members.</div>\n
LOCATION:Cottonwood Golf Course\, El Cajon\, CA
UID:e.784.2640
SEQUENCE:3
DTSTAMP:20260422T154551Z
URL:https://chamber.sdbusinesschamber.com/events/details/7th-annual-duncan-l-hunter-wounded-warrior-golf-tournament-05-21-2012-2640
END:VEVENT

END:VCALENDAR
