BEGIN:VCALENDAR
VERSION:2.0
PRODID:-//ChamberMaster//Event Calendar 2.0//EN
METHOD:PUBLISH
X-PUBLISHED-TTL:P3D
REFRESH-INTERVAL:P3D
CALSCALE:GREGORIAN
BEGIN:VEVENT
DTSTART:20130828T190000Z
DTEND:20130828T200000Z
X-MICROSOFT-CDO-ALLDAYEVENT:FALSE
SUMMARY:60 Minutes for Safety - Engaging Employees in a Culture of Safety
DESCRIPTION:Did you know more highly engaged workers are less likely to incur safety related accidents? Investment in your employees and save $$$ by minimizing workers compensation claims. (Lunch with be provided.)
X-ALT-DESC;FMTTYPE=text/html:Did you know more highly engaged workers are less likely to incur safety related accidents? Investment in your employees and save $$$ by minimizing workers compensation claims. (Lunch with be provided.)
LOCATION:Pacific Safety Center 9880 Via Pasar Suite F San Diego CA 92126
UID:e.784.2941
SEQUENCE:3
DTSTAMP:20260421T160119Z
URL:https://chamber.sdbusinesschamber.com/events/details/60-minutes-for-safety-engaging-employees-in-a-culture-of-safety-08-28-2013-2941
END:VEVENT

END:VCALENDAR
