BEGIN:VCALENDAR
VERSION:2.0
PRODID:-//ChamberMaster//Event Calendar 2.0//EN
METHOD:PUBLISH
X-PUBLISHED-TTL:P3D
REFRESH-INTERVAL:P3D
CALSCALE:GREGORIAN
BEGIN:VEVENT
DTSTART:20201118T230000Z
DTEND:20201119T000000Z
X-MICROSOFT-CDO-ALLDAYEVENT:FALSE
SUMMARY:5 Ways to Boost Your FICO Credit Score Workshop
DESCRIPTION:During your life\, you will likely borrow money at some point\, and your credit score will affect your ability to borrow money\, rent an apartment\, and the offered interest rates. Want to learn more about your credit scores and find ways to boost it? Tune into this webinar to learn more!\n\n\n\nTopics covered include:\n\n	How your credit score is calculated\n	Credit Score factors\n	What is a good credit score\n	Important tips for managing and improving your credit score\n	The impact of your credit score\n\nGuest Speaker\,\n\nMatthew Gage\, Partner Experience Manager GreenPath Financial Wellness
X-ALT-DESC;FMTTYPE=text/html:During your life\, you will likely borrow money at some point\, and your credit score will affect your ability to borrow money\, rent an apartment\, and the offered interest rates. Want to learn more about your credit scores and find ways to boost it? Tune into this webinar to learn more!<br />\n<br />\nTopics covered include:\n<ul>\n	<li>How your credit score is calculated</li>\n	<li>Credit Score factors</li>\n	<li>What is a good credit score</li>\n	<li>Important tips for managing and improving your credit score</li>\n	<li>The impact of your credit score</li>\n</ul>\nGuest Speaker\,<br />\nMatthew Gage\, Partner Experience Manager GreenPath Financial Wellness
LOCATION:Free Virtual event via zoom
UID:e.784.26530
SEQUENCE:3
DTSTAMP:20260425T182736Z
URL:https://chamber.sdbusinesschamber.com/events/details/5-ways-to-boost-your-fico-credit-score-workshop-26530
END:VEVENT

END:VCALENDAR
