BEGIN:VCALENDAR
VERSION:2.0
PRODID:-//ChamberMaster//Event Calendar 2.0//EN
METHOD:PUBLISH
X-PUBLISHED-TTL:P3D
REFRESH-INTERVAL:P3D
CALSCALE:GREGORIAN
BEGIN:VEVENT
DTSTART:20200806T220000Z
DTEND:20200806T230000Z
X-MICROSOFT-CDO-ALLDAYEVENT:FALSE
SUMMARY:5 Steps to Solar with MyPoint Credit Union
DESCRIPTION:Want to save more on your electricity bill? Join us to learn five steps that show you using solar can help you cut down your monthly electricity bill and protect you against rising energy costs. Whether your motivations for going solar are economic or environmental\, there are multiple benefits that can make a difference in your budget and your carbon footprint.\n\n\n\nWe will have guest speakers\,\n\nDave Gersz\, Sales Manager\, Sunpower by Stellar Solar\n\nRyan Main\, Compass Realtor\, DRE #01980609\n\n\n\nTopics Covered\n\n	Why go Solar?\n	Solar Rebates and Incentives\n	Roofing\,Panels\, & Batteries\n	Solar & Real Estate Value\n	Solar Lending\n\nPlease register on Eventbrite to join\,\n\nhttps://www.eventbrite.com/e/5-steps-to-solar-webinar-tickets-111885079284\n\nhttps://zoom.us/j/94616738047
X-ALT-DESC;FMTTYPE=text/html:Want to save more on your electricity bill? Join us to learn five steps that show you using solar can help you cut down your monthly electricity bill and protect you against rising energy costs. Whether your motivations for going solar are economic or environmental\, there are multiple benefits that can make a difference in your budget and your carbon footprint.<br />\n<br />\nWe will have guest speakers\,<br />\n<strong>Dave Gersz</strong>\, Sales Manager\, Sunpower by Stellar Solar<br />\n<strong>Ryan Main</strong>\, Compass Realtor\, DRE #01980609<br />\n<br />\n<strong>Topics Covered</strong>\n<ul>\n	<li>Why go Solar?</li>\n	<li>Solar Rebates and Incentives</li>\n	<li>Roofing\,Panels\, &amp\; Batteries</li>\n	<li>Solar &amp\; Real Estate Value</li>\n	<li>Solar Lending</li>\n</ul>\nPlease register on Eventbrite to join\,<br />\n<span style="font-family:calibri\,sans-serif\; font-size:11pt"><a href="https://www.eventbrite.com/e/5-steps-to-solar-webinar-tickets-111885079284">https://www.eventbrite.com/e/5-steps-to-solar-webinar-tickets-111885079284</a></span><br />\n<span style="font-family:times new roman\,serif\; font-size:12pt"><a href="https://zoom.us/j/94616738047">https://zoom.us/j/94616738047</a></span><br />\n&nbsp\;
LOCATION:Free Virtual Event via zoom
UID:e.784.25157
SEQUENCE:3
DTSTAMP:20260425T223130Z
URL:https://chamber.sdbusinesschamber.com/events/details/5-steps-to-solar-25157
END:VEVENT

END:VCALENDAR
