BEGIN:VCALENDAR
VERSION:2.0
PRODID:-//ChamberMaster//Event Calendar 2.0//EN
METHOD:PUBLISH
X-PUBLISHED-TTL:P3D
REFRESH-INTERVAL:P3D
CALSCALE:GREGORIAN
BEGIN:VEVENT
DTSTART:20191016T150000Z
DTEND:20191016T190000Z
X-MICROSOFT-CDO-ALLDAYEVENT:FALSE
SUMMARY:360-Degree Effectiveness
DESCRIPTION:How do you measure your influence at work? Would you look downward to the people and projects assigned to you? Or\, do you see yourself at the center of a sphere of influence   a circle of power defined by 360-degrees of effective relationships?\n\n"360" in today's business lexicon is too often linked only to performance feedback devices. A "360 attitude" will increase your overall impact and put you in the center of a widening circle that includes the people and projects assigned to you\, PLUS your boss(es)\, and your peers. To achieve this will require the right mindset and skills to build effective relationships.\n\n360-DEGREE EFFECTIVENESS REQUIRES 360 DEGREE THINKING AND 360 DEGREE ACTION\n\n360-DEGREE EFFECTIVENESS is a crash course in building your positive impact at work. It is designed to improve your success partnering with your boss\, collaborating with your peers and remote colleagues\, and navigating office politics. It's time to train your brain to think 360 and extend your influence at work in order to lead your team and your projects with increased resources\, support\, and the buy-in you require.
X-ALT-DESC;FMTTYPE=text/html:<p>How do you measure your influence at work? Would you look downward to the people and projects assigned to you? Or\, do you see yourself at the center of a sphere of influence &ndash\; a circle of power defined by 360-degrees of effective relationships?</p>\n\n<p>&ldquo\;360&rdquo\; in today&rsquo\;s business lexicon is too often linked only to performance feedback devices. A &ldquo\;360 attitude&rdquo\; will increase your overall impact and put you in the center of a widening circle that includes the people and projects assigned to you\, PLUS your boss(es)\, and your peers. To achieve this will require the right mindset and skills to build effective relationships.</p>\n\n<p style="text-align:center"><strong>360-DEGREE EFFECTIVENESS REQUIRES 360 DEGREE THINKING AND 360 DEGREE ACTION</strong></p>\n\n<p>360-DEGREE EFFECTIVENESS is a crash course in building your positive impact at work. It is designed to improve your success partnering with your boss\, collaborating with your peers and remote colleagues\, and navigating office politics. It&rsquo\;s time to train your brain to think 360 and extend your influence at work in order to lead your team and your projects with increased resources\, support\, and the buy-in you require.</p>\n
LOCATION:UCSD Rady School of Management
UID:e.784.22848
SEQUENCE:3
DTSTAMP:20260421T112642Z
URL:https://chamber.sdbusinesschamber.com/events/details/360-degree-effectiveness-22848
END:VEVENT

END:VCALENDAR
