BEGIN:VCALENDAR
VERSION:2.0
PRODID:-//ChamberMaster//Event Calendar 2.0//EN
METHOD:PUBLISH
X-PUBLISHED-TTL:P3D
REFRESH-INTERVAL:P3D
CALSCALE:GREGORIAN
BEGIN:VEVENT
DTSTART:20130124T153000Z
DTEND:20130124T200000Z
X-MICROSOFT-CDO-ALLDAYEVENT:FALSE
SUMMARY:33rd Annual SDEA Employment Law Update
DESCRIPTION:SDEA's Annual Employment Law Update will not disappoint those looking to keep up with the new laws and critical topics affecting the California workplace.  Attendees will receive answers to their most pressing questions and explore solutions to some of the most difficult issues affecting (or threatening to affect) California business. \n\n	\n\n	    SDEA is pleased to have Rich Paul from Paul\, Plevin\, Sullivan & Connaughton and Lonny Zilberman from Wilson Turner Kosmo returning as speakers\, and welcomes Janice Brown from Brown Law Group to the line up!  This trio will address the latest rulings and legislative development in California and how they will impact your company.  Several of the latest litigation trends will also be addressed\, including strategies you can use to avoid getting sued.\n\n	\n\n	  Hear real-world examples of situations where companies failed to follow the law\, or made judgment errors\, and how it cost them.  Learn what not to do in circumstances that aren't always black and white.  An update on the mandated healthcare reform will also be covered.  In-house counsel\, human resource professionals\, risk managers\, executive officers and anyone involved in the management of personnel will obtain the practical tools necessary to ensure continued compliance with the myriad of statues and court rulings that will impact state employment practices in 2013.
X-ALT-DESC;FMTTYPE=text/html:<p class="MsoNormal">\n	&nbsp\; &nbsp\;&nbsp\;SDEA&rsquo\;s Annual Employment Law Update will not disappoint those looking to keep up with the new laws and critical topics affecting the California workplace.&nbsp\; Attendees will receive answers to their most pressing questions and explore solutions to some of the most difficult issues affecting (or threatening to affect) California business.&nbsp\;<br />\n	<br />\n	&nbsp\; &nbsp\;&nbsp\;SDEA is pleased to have Rich Paul from Paul\, Plevin\, Sullivan &amp\; Connaughton and Lonny Zilberman from Wilson Turner Kosmo returning as speakers\, and welcomes Janice Brown from Brown Law Group to the line up!&nbsp\; This trio will address the latest rulings and legislative development in California and how they will impact your company.&nbsp\; Several of the latest litigation trends will also be addressed\, including strategies you can use to avoid getting sued.<br />\n	<br />\n	&nbsp\; Hear real-world examples of situations where companies failed to follow the law\, or made judgment errors\, and how it cost them.&nbsp\; Learn what not to do in circumstances that aren&rsquo\;t always black and white.&nbsp\; An update on the mandated healthcare reform will also be covered.&nbsp\; In-house counsel\, human resource professionals\, risk managers\, executive officers and anyone involved in the management of personnel will obtain the practical tools necessary to ensure continued compliance with the myriad of statues and court rulings that will impact state employment practices in 2013.</p>\n<p class="MsoNormal">\n	&nbsp\;</p>\n<p class="MsoNormal">\n	<br />\n	<o:p></o:p></p>\n
LOCATION:Crown Plaza Mission Valley 2270 Hotel Circle North San Diego\, CA 92108
UID:e.784.2802
SEQUENCE:3
DTSTAMP:20260422T031109Z
URL:https://chamber.sdbusinesschamber.com/events/details/33rd-annual-sdea-employment-law-update-01-24-2013-2802
END:VEVENT

END:VCALENDAR
