BEGIN:VCALENDAR
VERSION:2.0
PRODID:-//ChamberMaster//Event Calendar 2.0//EN
METHOD:PUBLISH
X-PUBLISHED-TTL:P3D
REFRESH-INTERVAL:P3D
CALSCALE:GREGORIAN
BEGIN:VEVENT
DTSTART:20121020T040000Z
DTEND:20121020T200000Z
X-MICROSOFT-CDO-ALLDAYEVENT:FALSE
SUMMARY:26th Annual Craft Fair
DESCRIPTION:Stroll through 8\,500 square feet of professional customized items\, shop for unique\, high-quality gifts and enjoy food trucks\, baked goods and camaraderie in the courtyard. The Craft Fair includes more than 60 expert craft artists and a large assortment of homemade baked items. Food Trucks will be on-site through the event. The proceeds benefit the children of the multi-denominational early education program through the purchase of classroom materials and playground equipment.
X-ALT-DESC;FMTTYPE=text/html:Stroll through 8\,500 square feet of professional customized items\, shop for unique\, high-quality gifts and enjoy food trucks\, baked goods and camaraderie in the courtyard. The Craft Fair includes more than 60 expert craft artists and a large assortment of homemade baked items. Food Trucks will be on-site through the event. The proceeds benefit the children of the multi-denominational early education program through the purchase of classroom materials and playground equipment.
LOCATION:Rancho Bernardo Community Presbyterian Church\, 17010 Pomerado Road\, San Diego\, CA 92128
UID:e.784.2685
SEQUENCE:3
DTSTAMP:20260422T075602Z
URL:https://chamber.sdbusinesschamber.com/events/details/26th-annual-craft-fair-10-19-2012-2685
END:VEVENT

END:VCALENDAR
