BEGIN:VCALENDAR
VERSION:2.0
PRODID:-//ChamberMaster//Event Calendar 2.0//EN
METHOD:PUBLISH
X-PUBLISHED-TTL:P3D
REFRESH-INTERVAL:P3D
CALSCALE:GREGORIAN
BEGIN:VEVENT
DTSTART:20201030T150000Z
DTEND:20201030T190500Z
X-MICROSOFT-CDO-ALLDAYEVENT:FALSE
SUMMARY:2020 VetCTAP Golf Fundraiser
DESCRIPTION:Come out and play to support our veterans and spouses!\n\nJoin us for a great golf outing on an award winning course.\n\n \n\n2020 VetCTAP Golf Tournament\n\nA Fundraiser to Benefit VetCTAP\n\nFriday\, October 30\, 2020  |  First Tee Time 8:00am\n\nLocation:  Marine Memorial Golf Course\n\n Camp Pendleton\, CA\n\n\n\nThis is a COVID19 friendly event. Great for golfers at all levels! \n\n\n	Mulligan\, strings\, and opportunity tickets will be sold at the golf course\n	Breakfast or lunch included\n	Four-person best ball format\n	On course drink cart\n	Golf cart included\n\n\nEvent will comply with current health guidelines: masks\, physical distancing\, modified golf regulations\, no group meals or gatherings\, etc.\n\n\n\nCheck out our sponsorship opportunities!  Most of our sponsor levels include green fees.\n\n\n\nVetCTAP provides FREE ongoing job search workshops and coaching for transitioning military\, veterans and spouses. We specialize in working with those who have served 10+ years in the military and spouses who are looking for a professional career.\n\nVetCTAP is a program of the nonprofit organization JBS Transition Experts\n\n\n\nClick here for registration and information:\n\nhttps://www.vetctap.org/golf-tournament.html\n\n\n\nThe United States Marine Corps (USMC)\, MCIWest-MCB CAMPEN\, and MCCS do not support or endorse this event
X-ALT-DESC;FMTTYPE=text/html:<div style="text-align:center">Come out and play to support our veterans and spouses!<br />\nJoin us for a great golf outing on an award winning course.</div>\n\n<div>&nbsp\;</div>\n\n<h2 style="text-align:center">2020 VetCTAP Golf Tournament</h2>\n\n<div style="text-align:center"><strong>A Fundraiser to Benefit VetCTAP</strong></div>\n\n<div style="text-align:center">Friday\, October 30\, 2020&nbsp\; |&nbsp\; First Tee Time 8:00am<br />\nLocation:&nbsp\; Marine Memorial Golf Course<br />\n<span style="color:rgb(34\, 34\, 34)">&nbsp\;Camp Pendleton\, CA</span></div>\n\n<div style="text-align:left"><br />\n<span style="color:rgb(34\, 34\, 34)">This is a COVID19 friendly event. Great for golfers at all levels! </span>\n\n<ul>\n	<li>Mulligan\, strings\, and opportunity tickets will be sold at the golf course</li>\n	<li>Breakfast or lunch included</li>\n	<li>Four-person best ball format</li>\n	<li>On course drink cart</li>\n	<li>Golf cart included</li>\n</ul>\n</div>\n<span style="color:rgb(34\, 34\, 34)">Event will comply with current health guidelines: masks\, physical distancing\, modified golf regulations\, no group meals or gatherings\, etc.</span><br />\n<br />\nCheck out our sponsorship opportunities!&nbsp\; Most of our sponsor levels include green fees.<br />\n<br />\nVetCTAP provides FREE ongoing&nbsp\;job search&nbsp\;workshops and coaching for transitioning military\, veterans and spouses.&nbsp\;We specialize in working with those who have served 10+ years in the military and spouses who are looking for a professional career.<br />\nVetCTAP is a program of the nonprofit organization JBS Transition Experts<br />\n<br />\nClick here for registration and information:<br />\n<a href="https://www.vetctap.org/golf-tournament.html" target="Moreinformation">https://www.vetctap.org/golf-tournament.html</a><br />\n<br />\nThe United States Marine Corps (USMC)\, MCIWest-MCB CAMPEN\, and MCCS do not support or endorse this event<br />\n&nbsp\;
LOCATION:Marine Memorial Golf Course Bldg. 18415 Golf Course Road\, Camp Pendleton\, CA 92055
UID:e.784.25802
SEQUENCE:3
DTSTAMP:20260425T194545Z
URL:https://chamber.sdbusinesschamber.com/events/details/2020-vetctap-golf-fundraiser-25802
END:VEVENT

END:VCALENDAR
